BEGIN:VCALENDAR
VERSION:2.0
PRODID:-//Healthy West Orange - ECPv6.15.17.1//NONSGML v1.0//EN
CALSCALE:GREGORIAN
METHOD:PUBLISH
X-ORIGINAL-URL:https://healthywestorange.org
X-WR-CALDESC:Events for Healthy West Orange
REFRESH-INTERVAL;VALUE=DURATION:PT1H
X-Robots-Tag:noindex
X-PUBLISHED-TTL:PT1H
BEGIN:VTIMEZONE
TZID:America/New_York
BEGIN:DAYLIGHT
TZOFFSETFROM:-0500
TZOFFSETTO:-0400
TZNAME:EDT
DTSTART:20240310T070000
END:DAYLIGHT
BEGIN:STANDARD
TZOFFSETFROM:-0400
TZOFFSETTO:-0500
TZNAME:EST
DTSTART:20241103T060000
END:STANDARD
BEGIN:DAYLIGHT
TZOFFSETFROM:-0500
TZOFFSETTO:-0400
TZNAME:EDT
DTSTART:20250309T070000
END:DAYLIGHT
BEGIN:STANDARD
TZOFFSETFROM:-0400
TZOFFSETTO:-0500
TZNAME:EST
DTSTART:20251102T060000
END:STANDARD
BEGIN:DAYLIGHT
TZOFFSETFROM:-0500
TZOFFSETTO:-0400
TZNAME:EDT
DTSTART:20260308T070000
END:DAYLIGHT
BEGIN:STANDARD
TZOFFSETFROM:-0400
TZOFFSETTO:-0500
TZNAME:EST
DTSTART:20261101T060000
END:STANDARD
END:VTIMEZONE
BEGIN:VEVENT
DTSTART;TZID=America/New_York:20250124T130000
DTEND;TZID=America/New_York:20250314T150000
DTSTAMP:20260421T164556
CREATED:20250123T161302Z
LAST-MODIFIED:20250123T161302Z
UID:10000213-1737723600-1741964400@healthywestorange.org
SUMMARY:American Sign Language - Class Series
DESCRIPTION:
URL:https://healthywestorange.org/event/american-sign-language-class-series/
LOCATION:Town of Windermere – Community Conference Room\, 614 Main Street BLDG 100\, Windermere\, Florida
ATTACH;FMTTYPE=image/jpeg:https://healthywestorange.org/wp-content/uploads/2025/01/1235BB86-E641-4074-8E15-65A4E7EB6173.jpeg
END:VEVENT
BEGIN:VEVENT
DTSTART;TZID=America/New_York:20250306T180000
DTEND;TZID=America/New_York:20250403T190000
DTSTAMP:20260421T164556
CREATED:20250224T152815Z
LAST-MODIFIED:20250224T152815Z
UID:10000250-1741284000-1743706800@healthywestorange.org
SUMMARY:Plant-Based Eating Series: From the Ground Up
DESCRIPTION:
URL:https://healthywestorange.org/event/plant-based-eating-series-from-the-ground-up/
LOCATION:Orlando Health Horizon West Hospital\, 17000 Porter Rd\, Winter Garden\, Florida\, 34787
ATTACH;FMTTYPE=image/jpeg:https://healthywestorange.org/wp-content/uploads/2025/02/3.6.25_HealthyEatingFromtheGroundUp_FINAL.jpg
END:VEVENT
BEGIN:VEVENT
DTSTART;TZID=America/New_York:20250310T120000
DTEND;TZID=America/New_York:20250310T123000
DTSTAMP:20260421T164556
CREATED:20250224T152340Z
LAST-MODIFIED:20250224T152340Z
UID:10000246-1741608000-1741609800@healthywestorange.org
SUMMARY:Free Webinar: Kitchen Solutions
DESCRIPTION:
URL:https://healthywestorange.org/event/free-webinar-kitchen-solutions/
LOCATION:FL
ATTACH;FMTTYPE=image/jpeg:https://healthywestorange.org/wp-content/uploads/2025/02/3.10.25_KitchenSolutions_FINAL.jpg
END:VEVENT
BEGIN:VEVENT
DTSTART;TZID=America/New_York:20250310T163000
DTEND;TZID=America/New_York:20250310T170000
DTSTAMP:20260421T164556
CREATED:20250224T152428Z
LAST-MODIFIED:20250224T152428Z
UID:10000247-1741624200-1741626000@healthywestorange.org
SUMMARY:Free Webinar: Kitchen Solutions
DESCRIPTION:
URL:https://healthywestorange.org/event/free-webinar-kitchen-solutions-2/
LOCATION:FL
ATTACH;FMTTYPE=image/jpeg:https://healthywestorange.org/wp-content/uploads/2025/02/3.10.25_KitchenSolutions_FINAL.jpg
END:VEVENT
END:VCALENDAR