BEGIN:VCALENDAR
VERSION:2.0
PRODID:-//Healthy West Orange - ECPv6.15.17.1//NONSGML v1.0//EN
CALSCALE:GREGORIAN
METHOD:PUBLISH
X-WR-CALNAME:Healthy West Orange
X-ORIGINAL-URL:https://healthywestorange.org
X-WR-CALDESC:Events for Healthy West Orange
REFRESH-INTERVAL;VALUE=DURATION:PT1H
X-Robots-Tag:noindex
X-PUBLISHED-TTL:PT1H
BEGIN:VTIMEZONE
TZID:America/New_York
BEGIN:DAYLIGHT
TZOFFSETFROM:-0500
TZOFFSETTO:-0400
TZNAME:EDT
DTSTART:20240310T070000
END:DAYLIGHT
BEGIN:STANDARD
TZOFFSETFROM:-0400
TZOFFSETTO:-0500
TZNAME:EST
DTSTART:20241103T060000
END:STANDARD
BEGIN:DAYLIGHT
TZOFFSETFROM:-0500
TZOFFSETTO:-0400
TZNAME:EDT
DTSTART:20250309T070000
END:DAYLIGHT
BEGIN:STANDARD
TZOFFSETFROM:-0400
TZOFFSETTO:-0500
TZNAME:EST
DTSTART:20251102T060000
END:STANDARD
BEGIN:DAYLIGHT
TZOFFSETFROM:-0500
TZOFFSETTO:-0400
TZNAME:EDT
DTSTART:20260308T070000
END:DAYLIGHT
BEGIN:STANDARD
TZOFFSETFROM:-0400
TZOFFSETTO:-0500
TZNAME:EST
DTSTART:20261101T060000
END:STANDARD
END:VTIMEZONE
BEGIN:VEVENT
DTSTART;TZID=America/New_York:20250402T100000
DTEND;TZID=America/New_York:20250618T140000
DTSTAMP:20260421T201700
CREATED:20250331T205921Z
LAST-MODIFIED:20250415T164125Z
UID:10000284-1743588000-1750255200@healthywestorange.org
SUMMARY:Fresh Start Wash and Wellness Showers
DESCRIPTION:We are excited to announce that the Fresh Start WASH and Wellness Shower & Hygiene service is coming to the Orlando Public Library! 🧼 This service provides free mobile showers and bathroom facilities for those experiencing homelessness. The mobile hygiene unit includes four-bathroom stalls\, with one bathroom equipped with an ADA-compliant lift and a slightly larger space. Each guest is given a bath towel to use and return\, and a hygiene kit to keep. \nWhere: Orlando Public Library on Wall St. (the mobile unit will be park behind the library) \nWhen:  The 1st and 3rd Wednesdays of each month\, from 10 a.m. to 2 p.m. through June 18 \nTo access the shower services\, guests will be asked for some demographic data and to follow a few rules of mutual respect. To learn more about this service\, click here: https://thewashfoundation.org/freshstart/
URL:https://healthywestorange.org/event/fresh-start-wash-and-wellness-showers/
LOCATION:Orlando Public Library\, 101 E. Central Blvd\, Orlando\, Florida\, 32801
ATTACH;FMTTYPE=image/jpeg:https://healthywestorange.org/wp-content/uploads/2025/03/Mobile-Hygine-Showers-Services-by-the-WASH-Foundation-in-Orlando-FL.jpg
END:VEVENT
BEGIN:VEVENT
DTSTART;TZID=America/New_York:20250409T100000
DTEND;TZID=America/New_York:20250531T170000
DTSTAMP:20260421T201700
CREATED:20250409T185357Z
LAST-MODIFIED:20250415T171703Z
UID:10000303-1744192800-1748710800@healthywestorange.org
SUMMARY:Hygiene Items Needed!
DESCRIPTION:Eight Waves is collecting any size hygiene items. \nGoal:      Help 500 children with basic hygiene items. \nWhen:  The months of April and May between 10 a.m. – 5 p.m. (Monday – Saturday). \nWhere: Drop off at Big Bob’s Flooring Outlet: 13145 W Colonial Dr\, Winter Garden\, FL 34787
URL:https://healthywestorange.org/event/hygiene-items-needed/
LOCATION:Big Bob’s Flooring Outlet\, 13145 W. Colonial Dr.
END:VEVENT
BEGIN:VEVENT
DTSTART;TZID=America/New_York:20250412T090000
DTEND;TZID=America/New_York:20250419T120000
DTSTAMP:20260421T201700
CREATED:20250408T170830Z
LAST-MODIFIED:20250415T173239Z
UID:10000295-1744448400-1745064000@healthywestorange.org
SUMMARY:Arts in April Kids' Art Tent
DESCRIPTION:Children of all ages are welcome to create a variety of complimentary art activities during the Farmers Market. \nWhere:  10 S. Boyd St. (Winter Garden Farmers Market Parking Garage Plaza)\nWhen:    Saturdays | April 12 & April 19\nActivity: Art Activity | 9:00 am – 12:00 pm | Free
URL:https://healthywestorange.org/event/arts-in-april-kids-art-tent/
LOCATION:Winter Garden Parking Garage\, 160 S. Boyd St.\, Winter Garden\, FL\, 34787\, United States
END:VEVENT
BEGIN:VEVENT
DTSTART;TZID=America/New_York:20250416T110000
DTEND;TZID=America/New_York:20250416T120000
DTSTAMP:20260421T201700
CREATED:20250319T145149Z
LAST-MODIFIED:20250319T145434Z
UID:10000265-1744801200-1744804800@healthywestorange.org
SUMMARY:Groove & Flow: Latin Ballroom Class!
DESCRIPTION:
URL:https://healthywestorange.org/event/groove-flow-latin-ballroom-class/
LOCATION:Healthy West Orange Building\, 1200 E Plant St\, Winter Garden\, FL\, 34787\, United States
CATEGORIES:Community Connections
ATTACH;FMTTYPE=image/jpeg:https://healthywestorange.org/wp-content/uploads/2025/03/April-Dance-Month-Flyer-JPG-FINAL.jpg
END:VEVENT
BEGIN:VEVENT
DTSTART;TZID=America/New_York:20250416T140000
DTEND;TZID=America/New_York:20250416T160000
DTSTAMP:20260421T201700
CREATED:20250326T183454Z
LAST-MODIFIED:20250326T183454Z
UID:10000276-1744812000-1744819200@healthywestorange.org
SUMMARY:Networking Luncheon - Community Partners
DESCRIPTION:
URL:https://healthywestorange.org/event/networking-luncheon-community-partners/
LOCATION:West Orange Neighborhood Center for Families\, 303 SW Crown Point Rd\, Winter Garden\, FL\, 34787
ATTACH;FMTTYPE=image/jpeg:https://healthywestorange.org/wp-content/uploads/2025/03/Ready-Set-Network-Flyer.jpg
END:VEVENT
END:VCALENDAR