BEGIN:VCALENDAR
VERSION:2.0
PRODID:-//Healthy West Orange - ECPv6.15.17.1//NONSGML v1.0//EN
CALSCALE:GREGORIAN
METHOD:PUBLISH
X-WR-CALNAME:Healthy West Orange
X-ORIGINAL-URL:https://healthywestorange.org
X-WR-CALDESC:Events for Healthy West Orange
REFRESH-INTERVAL;VALUE=DURATION:PT1H
X-Robots-Tag:noindex
X-PUBLISHED-TTL:PT1H
BEGIN:VTIMEZONE
TZID:America/New_York
BEGIN:DAYLIGHT
TZOFFSETFROM:-0500
TZOFFSETTO:-0400
TZNAME:EDT
DTSTART:20240310T070000
END:DAYLIGHT
BEGIN:STANDARD
TZOFFSETFROM:-0400
TZOFFSETTO:-0500
TZNAME:EST
DTSTART:20241103T060000
END:STANDARD
BEGIN:DAYLIGHT
TZOFFSETFROM:-0500
TZOFFSETTO:-0400
TZNAME:EDT
DTSTART:20250309T070000
END:DAYLIGHT
BEGIN:STANDARD
TZOFFSETFROM:-0400
TZOFFSETTO:-0500
TZNAME:EST
DTSTART:20251102T060000
END:STANDARD
BEGIN:DAYLIGHT
TZOFFSETFROM:-0500
TZOFFSETTO:-0400
TZNAME:EDT
DTSTART:20260308T070000
END:DAYLIGHT
BEGIN:STANDARD
TZOFFSETFROM:-0400
TZOFFSETTO:-0500
TZNAME:EST
DTSTART:20261101T060000
END:STANDARD
END:VTIMEZONE
BEGIN:VEVENT
DTSTART;TZID=America/New_York:20250402T100000
DTEND;TZID=America/New_York:20250618T140000
DTSTAMP:20260421T200716
CREATED:20250331T205921Z
LAST-MODIFIED:20250415T164125Z
UID:10000284-1743588000-1750255200@healthywestorange.org
SUMMARY:Fresh Start Wash and Wellness Showers
DESCRIPTION:We are excited to announce that the Fresh Start WASH and Wellness Shower & Hygiene service is coming to the Orlando Public Library! 🧼 This service provides free mobile showers and bathroom facilities for those experiencing homelessness. The mobile hygiene unit includes four-bathroom stalls\, with one bathroom equipped with an ADA-compliant lift and a slightly larger space. Each guest is given a bath towel to use and return\, and a hygiene kit to keep. \nWhere: Orlando Public Library on Wall St. (the mobile unit will be park behind the library) \nWhen:  The 1st and 3rd Wednesdays of each month\, from 10 a.m. to 2 p.m. through June 18 \nTo access the shower services\, guests will be asked for some demographic data and to follow a few rules of mutual respect. To learn more about this service\, click here: https://thewashfoundation.org/freshstart/
URL:https://healthywestorange.org/event/fresh-start-wash-and-wellness-showers/
LOCATION:Orlando Public Library\, 101 E. Central Blvd\, Orlando\, Florida\, 32801
ATTACH;FMTTYPE=image/jpeg:https://healthywestorange.org/wp-content/uploads/2025/03/Mobile-Hygine-Showers-Services-by-the-WASH-Foundation-in-Orlando-FL.jpg
END:VEVENT
BEGIN:VEVENT
DTSTART;TZID=America/New_York:20250514T180000
DTEND;TZID=America/New_York:20250702T210000
DTSTAMP:20260421T200716
CREATED:20250408T195847Z
LAST-MODIFIED:20250408T195952Z
UID:10000301-1747245600-1751490000@healthywestorange.org
SUMMARY:Citizen Public Safety Academy
DESCRIPTION:This is a free\, exciting\, and educational program open to the public\, and it’s going to be packed with experiences you won’t want to miss! \nThe academy will take place every Wednesday from May 14th to July 2nd\, from 6:00 PM to 9:00 PM. During this program\, you’ll get a behind-the-scenes look at how our police department operates\, including interactive sessions on: \n\nDrone Operations\nK9 Demonstration\nPolice Department Tour\nMedical Examiner’s Office\nOrange County Aviation Section\nTASER Exposure\nSimulator Room Experiences\nS.W.A.T.\nTraffic Laws and DUI\nTraffic Homicide Investigations\nCriminal Investigations\nNarcotics \nCrime Scene Investigations\nCode Enforcement\nCommunity Service Aid\n\nIt’s an incredible opportunity to learn from the experts and gain valuable insights into public safety! We’d love for you to join us and be part of this amazing experience. \nApply here if interested: https://www.ocoee.org/302/Public-Safety-Academy
URL:https://healthywestorange.org/event/citizen-public-safety-academy/
LOCATION:Ocoee PD\, 646 Ocoee Commerce Pkwy\, Ocoee\, FL\, 34761\, United States
ATTACH;FMTTYPE=image/jpeg:https://healthywestorange.org/wp-content/uploads/2025/04/Updated-Citizen-Public-Safety-Academy-Flyer-2025-1-scaled.jpg
END:VEVENT
BEGIN:VEVENT
DTSTART;TZID=America/New_York:20250602T080000
DTEND;TZID=America/New_York:20250731T123000
DTSTAMP:20260421T200716
CREATED:20250610T172728Z
LAST-MODIFIED:20250829T160613Z
UID:10000380-1748851200-1753965000@healthywestorange.org
SUMMARY:Summer BreakSpot--Free Meals for Kids
DESCRIPTION:Children aged 18 and under can receive free breakfast\, lunch\, and snacks at no cost this summer through the Summer BreakSpot program (June 2 – July 31). No application is required to participate\, but children must be present to receive meals. \nSummer BreakSpot operates more than 3\,000 locations across Florida\, including schools in West Orange County.  All dates and times are on the website at SummerBreakSpot.org \nMost schools serve breakfast between 8am-9am and lunch between 11am-12:30pm.  Some schools in West Orange County that serve as distribution sites include: \n\nPanther Lake Elementary\, 10151 Summerlake Groves St.\, Winter Garden\nSummerLake Elementary\, 15450 Porter Road\, Winter Garden\nWindermere High School\, 5523 Winter Garden Vineland Road\, Windermere\nSunset Park Elementary School\, 12050 Overstreet Road\, Windermere\nWest Orange High School\, 1625 Beulah Rd\, Winter Garden\nOcoee Middle School\, 300 S. Bluford Ave.\, Ocoee\n\nThe program aims to provide consistent access to nutritious meals\, especially during summer break. \nFamilies can find more nearby locations at SummerBreakSpot.org
URL:https://healthywestorange.org/event/summer-breakspot-free-meals-for-kids/
LOCATION:FL
ATTACH;FMTTYPE=image/jpeg:https://healthywestorange.org/wp-content/uploads/2025/06/Summer-BreakSpot.jpg
END:VEVENT
BEGIN:VEVENT
DTSTART;TZID=America/New_York:20250614T083000
DTEND;TZID=America/New_York:20250614T130000
DTSTAMP:20260421T200716
CREATED:20250604T190023Z
LAST-MODIFIED:20250604T190023Z
UID:10000369-1749889800-1749906000@healthywestorange.org
SUMMARY:Fatherhood Baby Shower and Preparation
DESCRIPTION:Fatherhood Baby Shower Painting & Preparing Workshop\nSat.\, June 14\, 2025 9 a.m. – 1 p.m.\nRegistration begins at 8:30 a.m.\nLet’s Paint our Future Together: Parenting Lessons\, Safe Sleep Education\, Giveaways and more!\nSouthside Health Center 6101 Lake Ellenor Drive\, Orlando 32809
URL:https://healthywestorange.org/event/fatherhood-baby-shower-and-preparation/
LOCATION:Southside Health Center\, 6101 Lake Ellenor Drive\, Orlando\, FL\, 32809
END:VEVENT
END:VCALENDAR