BEGIN:VCALENDAR
VERSION:2.0
PRODID:-//Healthy West Orange - ECPv6.15.17.1//NONSGML v1.0//EN
CALSCALE:GREGORIAN
METHOD:PUBLISH
X-ORIGINAL-URL:https://healthywestorange.org
X-WR-CALDESC:Events for Healthy West Orange
REFRESH-INTERVAL;VALUE=DURATION:PT1H
X-Robots-Tag:noindex
X-PUBLISHED-TTL:PT1H
BEGIN:VTIMEZONE
TZID:America/New_York
BEGIN:DAYLIGHT
TZOFFSETFROM:-0500
TZOFFSETTO:-0400
TZNAME:EDT
DTSTART:20240310T070000
END:DAYLIGHT
BEGIN:STANDARD
TZOFFSETFROM:-0400
TZOFFSETTO:-0500
TZNAME:EST
DTSTART:20241103T060000
END:STANDARD
BEGIN:DAYLIGHT
TZOFFSETFROM:-0500
TZOFFSETTO:-0400
TZNAME:EDT
DTSTART:20250309T070000
END:DAYLIGHT
BEGIN:STANDARD
TZOFFSETFROM:-0400
TZOFFSETTO:-0500
TZNAME:EST
DTSTART:20251102T060000
END:STANDARD
BEGIN:DAYLIGHT
TZOFFSETFROM:-0500
TZOFFSETTO:-0400
TZNAME:EDT
DTSTART:20260308T070000
END:DAYLIGHT
BEGIN:STANDARD
TZOFFSETFROM:-0400
TZOFFSETTO:-0500
TZNAME:EST
DTSTART:20261101T060000
END:STANDARD
END:VTIMEZONE
BEGIN:VEVENT
DTSTART;TZID=America/New_York:20250514T180000
DTEND;TZID=America/New_York:20250702T210000
DTSTAMP:20260423T111023
CREATED:20250408T195847Z
LAST-MODIFIED:20250408T195952Z
UID:10000301-1747245600-1751490000@healthywestorange.org
SUMMARY:Citizen Public Safety Academy
DESCRIPTION:This is a free\, exciting\, and educational program open to the public\, and it’s going to be packed with experiences you won’t want to miss! \nThe academy will take place every Wednesday from May 14th to July 2nd\, from 6:00 PM to 9:00 PM. During this program\, you’ll get a behind-the-scenes look at how our police department operates\, including interactive sessions on: \n\nDrone Operations\nK9 Demonstration\nPolice Department Tour\nMedical Examiner’s Office\nOrange County Aviation Section\nTASER Exposure\nSimulator Room Experiences\nS.W.A.T.\nTraffic Laws and DUI\nTraffic Homicide Investigations\nCriminal Investigations\nNarcotics \nCrime Scene Investigations\nCode Enforcement\nCommunity Service Aid\n\nIt’s an incredible opportunity to learn from the experts and gain valuable insights into public safety! We’d love for you to join us and be part of this amazing experience. \nApply here if interested: https://www.ocoee.org/302/Public-Safety-Academy
URL:https://healthywestorange.org/event/citizen-public-safety-academy/
LOCATION:Ocoee PD\, 646 Ocoee Commerce Pkwy\, Ocoee\, FL\, 34761\, United States
ATTACH;FMTTYPE=image/jpeg:https://healthywestorange.org/wp-content/uploads/2025/04/Updated-Citizen-Public-Safety-Academy-Flyer-2025-1-scaled.jpg
END:VEVENT
BEGIN:VEVENT
DTSTART;TZID=America/New_York:20250602T080000
DTEND;TZID=America/New_York:20250731T123000
DTSTAMP:20260423T111023
CREATED:20250610T172728Z
LAST-MODIFIED:20250829T160613Z
UID:10000380-1748851200-1753965000@healthywestorange.org
SUMMARY:Summer BreakSpot--Free Meals for Kids
DESCRIPTION:Children aged 18 and under can receive free breakfast\, lunch\, and snacks at no cost this summer through the Summer BreakSpot program (June 2 – July 31). No application is required to participate\, but children must be present to receive meals. \nSummer BreakSpot operates more than 3\,000 locations across Florida\, including schools in West Orange County.  All dates and times are on the website at SummerBreakSpot.org \nMost schools serve breakfast between 8am-9am and lunch between 11am-12:30pm.  Some schools in West Orange County that serve as distribution sites include: \n\nPanther Lake Elementary\, 10151 Summerlake Groves St.\, Winter Garden\nSummerLake Elementary\, 15450 Porter Road\, Winter Garden\nWindermere High School\, 5523 Winter Garden Vineland Road\, Windermere\nSunset Park Elementary School\, 12050 Overstreet Road\, Windermere\nWest Orange High School\, 1625 Beulah Rd\, Winter Garden\nOcoee Middle School\, 300 S. Bluford Ave.\, Ocoee\n\nThe program aims to provide consistent access to nutritious meals\, especially during summer break. \nFamilies can find more nearby locations at SummerBreakSpot.org
URL:https://healthywestorange.org/event/summer-breakspot-free-meals-for-kids/
LOCATION:FL
ATTACH;FMTTYPE=image/jpeg:https://healthywestorange.org/wp-content/uploads/2025/06/Summer-BreakSpot.jpg
END:VEVENT
BEGIN:VEVENT
DTSTART;TZID=America/New_York:20250620T000000
DTEND;TZID=America/New_York:20250706T235900
DTSTAMP:20260423T111023
CREATED:20240604T225033Z
LAST-MODIFIED:20250602T133338Z
UID:10000083-1750377600-1751846340@healthywestorange.org
SUMMARY:Westly's Splash Challenge
DESCRIPTION:
URL:https://healthywestorange.org/event/westlys-splash-challenge/
LOCATION:FL
ATTACH;FMTTYPE=image/png:https://healthywestorange.org/wp-content/uploads/2025/06/2025-splash-challenge-runsignup-scaled.png
END:VEVENT
BEGIN:VEVENT
DTSTART;TZID=America/New_York:20250625T173000
DTEND;TZID=America/New_York:20250625T190000
DTSTAMP:20260423T111023
CREATED:20250602T171411Z
LAST-MODIFIED:20250602T171411Z
UID:10000355-1750872600-1750878000@healthywestorange.org
SUMMARY:Newcomer Parent Academy--OCPS
DESCRIPTION:The Newcomer Academy Condensed Series\, a valuable opportunity for families new to Orange County Public Schools to learn more about our educational system and how to support their child’s success.\n\nTopics Include:\n\nParents’ Rights & Responsibilities\nBuilding a Strong Parent-Teacher Partnership\nStructure & Function of Your School\nStructure & Function of the School District and School Board\n\nInterpretation available in multiple languages to support our diverse families.\n\nDates: June 18 & 25\, 2025\nTime: 5:30 PM – 7:00 PM\nLocation: Global Family Welcome Center\n6051 Magic Way\, Bldg. 100A\, Orlando\, FL 32809\n\nRegistration Link: https://tinyurl.com/NewcomerCondensed24-25       \n\nFor more information\, families can call 407.317.3410 or email WelcomeCenter@ocps.net
URL:https://healthywestorange.org/event/newcomer-parent-academy-ocps-2/
LOCATION:Global Family Welcome Center\, 6051 Magic Way Bldg.\, 100A\, Orlando\, FL\, 32809
ATTACH;FMTTYPE=image/jpeg:https://healthywestorange.org/wp-content/uploads/2025/06/Newcomer_ENG.jpg
END:VEVENT
BEGIN:VEVENT
DTSTART;TZID=America/New_York:20250625T173000
DTEND;TZID=America/New_York:20250625T190000
DTSTAMP:20260423T111023
CREATED:20250602T171830Z
LAST-MODIFIED:20250602T175955Z
UID:10000357-1750872600-1750878000@healthywestorange.org
SUMMARY:Nouvo Akademi --OCPS
DESCRIPTION:The Newcomer Academy Condensed Series\, a valuable opportunity for families new to Orange County Public Schools to learn more about our educational system and how to support their child’s success.\n\nTopics Include:\n\nParents’ Rights & Responsibilities\nBuilding a Strong Parent-Teacher Partnership\nStructure & Function of Your School\nStructure & Function of the School District and School Board\n\nInterpretation available in multiple languages to support our diverse families.\n\nDates: June 18 & 25\, 2025\nTime: 5:30 PM – 7:00 PM\nLocation: Global Family Welcome Center\n6051 Magic Way\, Bldg. 100A\, Orlando\, FL 32809\n\nRegistration Link: https://tinyurl.com/NewcomerCondensed24-25       \n\nFor more information\, families can call 407.317.3410 or email WelcomeCenter@ocps.net
URL:https://healthywestorange.org/event/nouvo-akademi/
LOCATION:Global Family Welcome Center\, 6051 Magic Way Bldg.\, 100A\, Orlando\, FL\, 32809
ATTACH;FMTTYPE=image/jpeg:https://healthywestorange.org/wp-content/uploads/2025/06/Newcomer_HAT.jpg
END:VEVENT
BEGIN:VEVENT
DTSTART;TZID=America/New_York:20250625T173000
DTEND;TZID=America/New_York:20250625T190000
DTSTAMP:20260423T111023
CREATED:20250602T175550Z
LAST-MODIFIED:20250602T175550Z
UID:10000359-1750872600-1750878000@healthywestorange.org
SUMMARY:Academia para os Recem-Chegados--OCPS
DESCRIPTION:The Newcomer Academy Condensed Series\, a valuable opportunity for families new to Orange County Public Schools to learn more about our educational system and how to support their child’s success.\n\nTopics Include:\n\nParents’ Rights & Responsibilities\nBuilding a Strong Parent-Teacher Partnership\nStructure & Function of Your School\nStructure & Function of the School District and School Board\n\nInterpretation available in multiple languages to support our diverse families.\n\nDates: June 18 & 25\, 2025\nTime: 5:30 PM – 7:00 PM\nLocation: Global Family Welcome Center\n6051 Magic Way\, Bldg. 100A\, Orlando\, FL 32809\n\nRegistration Link: https://tinyurl.com/NewcomerCondensed24-25       \n\nFor more information\, families can call 407.317.3410 or email WelcomeCenter@ocps.net
URL:https://healthywestorange.org/event/academia-para-os-recem-chegados-ocps-2/
LOCATION:Global Family Welcome Center\, 6051 Magic Way Bldg.\, 100A\, Orlando\, FL\, 32809
ATTACH;FMTTYPE=image/jpeg:https://healthywestorange.org/wp-content/uploads/2025/06/Newcomer_POR.jpg
END:VEVENT
BEGIN:VEVENT
DTSTART;TZID=America/New_York:20250625T173000
DTEND;TZID=America/New_York:20250625T190000
DTSTAMP:20260423T111023
CREATED:20250602T175932Z
LAST-MODIFIED:20250602T175932Z
UID:10000361-1750872600-1750878000@healthywestorange.org
SUMMARY:Academia de Receiv Llegados --OCPS
DESCRIPTION:The Newcomer Academy Condensed Series\, a valuable opportunity for families new to Orange County Public Schools to learn more about our educational system and how to support their child’s success.\n\nTopics Include:\n\nParents’ Rights & Responsibilities\nBuilding a Strong Parent-Teacher Partnership\nStructure & Function of Your School\nStructure & Function of the School District and School Board\n\nInterpretation available in multiple languages to support our diverse families.\n\nDates: June 18 & 25\, 2025\nTime: 5:30 PM – 7:00 PM\nLocation: Global Family Welcome Center\n6051 Magic Way\, Bldg. 100A\, Orlando\, FL 32809\n\nRegistration Link: https://tinyurl.com/NewcomerCondensed24-25       \n\nFor more information\, families can call 407.317.3410 or email WelcomeCenter@ocps.net
URL:https://healthywestorange.org/event/academia-de-receiv-llegados-ocps/
LOCATION:Global Family Welcome Center\, 6051 Magic Way Bldg.\, 100A\, Orlando\, FL\, 32809
ATTACH;FMTTYPE=image/jpeg:https://healthywestorange.org/wp-content/uploads/2025/06/Newcomer_SPA.jpg
END:VEVENT
BEGIN:VEVENT
DTSTART;TZID=America/New_York:20250625T180000
DTEND;TZID=America/New_York:20250625T200000
DTSTAMP:20260423T111023
CREATED:20250619T181532Z
LAST-MODIFIED:20250619T181532Z
UID:10000396-1750874400-1750881600@healthywestorange.org
SUMMARY:Family Game Night
DESCRIPTION:From classic board games to exciting group challenges\, there’s something for everyone to enjoy. Whether you’re strategizing for a win or just playing for fun\, this is the perfect chance to unplug and connect with loved ones. \nBring the whole family for a night of games\, snacks and awesome memories. \nCalling all families: St. Luke’s United Methodist Church’s Children’s Ministries is inviting you for an evening of fun and friendly competition. \nThe event takes place from 6 to 8 p.m. Wednesday\, June 25\, at the church\, 4851 S. Apopka-Vineland Road\, Suite B\, Orlando. \nRSVP at st.lukes.org/children. \nAny donation will help cover event costs ($10).
URL:https://healthywestorange.org/event/family-game-night/
LOCATION:St. Luke’s United Methodist Church\, 4851 S. Apopka-Vineland Rd.\, Suite B\, Orlando\, FL\, 32819
ATTACH;FMTTYPE=image/jpeg:https://healthywestorange.org/wp-content/uploads/2025/06/Game-Night.jpeg
END:VEVENT
END:VCALENDAR