BEGIN:VCALENDAR
VERSION:2.0
PRODID:-//Healthy West Orange - ECPv6.15.17.1//NONSGML v1.0//EN
CALSCALE:GREGORIAN
METHOD:PUBLISH
X-WR-CALNAME:Healthy West Orange
X-ORIGINAL-URL:https://healthywestorange.org
X-WR-CALDESC:Events for Healthy West Orange
REFRESH-INTERVAL;VALUE=DURATION:PT1H
X-Robots-Tag:noindex
X-PUBLISHED-TTL:PT1H
BEGIN:VTIMEZONE
TZID:America/New_York
BEGIN:DAYLIGHT
TZOFFSETFROM:-0500
TZOFFSETTO:-0400
TZNAME:EDT
DTSTART:20250309T070000
END:DAYLIGHT
BEGIN:STANDARD
TZOFFSETFROM:-0400
TZOFFSETTO:-0500
TZNAME:EST
DTSTART:20251102T060000
END:STANDARD
BEGIN:DAYLIGHT
TZOFFSETFROM:-0500
TZOFFSETTO:-0400
TZNAME:EDT
DTSTART:20260308T070000
END:DAYLIGHT
BEGIN:STANDARD
TZOFFSETFROM:-0400
TZOFFSETTO:-0500
TZNAME:EST
DTSTART:20261101T060000
END:STANDARD
BEGIN:DAYLIGHT
TZOFFSETFROM:-0500
TZOFFSETTO:-0400
TZNAME:EDT
DTSTART:20270314T070000
END:DAYLIGHT
BEGIN:STANDARD
TZOFFSETFROM:-0400
TZOFFSETTO:-0500
TZNAME:EST
DTSTART:20271107T060000
END:STANDARD
END:VTIMEZONE
BEGIN:VEVENT
DTSTART;TZID=America/New_York:20260214T090000
DTEND;TZID=America/New_York:20260214T120000
DTSTAMP:20260425T140946
CREATED:20251129T005140Z
LAST-MODIFIED:20251129T005140Z
UID:10000808-1771059600-1771070400@healthywestorange.org
SUMMARY:Second Saturday Crew - Volunteering
DESCRIPTION:Second Saturday Crew \nJoin us for a special in-person service event at the Christian Service Center for the Homeless! Looking for a fun and rewarding service opportunity? The Second Saturday Crew is ideal for individuals\, youth groups\, small or large groups who want to help a charity that serves the poor and homeless in Central Florida. You will be helping by tackling various projects that are impractical for us to address on weekdays when there are a couple hundred visitors on campus. \nWe have a wide variety of fun group projects to choose from for all ages\, from light landscaping to painting\, or sorting pantry shelves and clothing racks. Our staff will be present to provide direction and support. \nFormerly known as “Family Volunteer Saturday\,” this morning of service takes place from 9:00 a.m. to 12:00 p.m. on the second Saturday of each month in 2025. This way\, no dates fall on a holiday weekend. Come out and make a difference in your community!
URL:https://healthywestorange.org/event/second-saturday-crew-volunteering/2026-02-14/
LOCATION:Christian Service Center – Ocoee\, 300 Franklin Street\, Ocoee\, FL\, 34761
ATTACH;FMTTYPE=image/jpeg:https://healthywestorange.org/wp-content/uploads/2025/11/CSC-Ocoee-Dec-2025.jpg
END:VEVENT
BEGIN:VEVENT
DTSTART;TZID=America/New_York:20260214T100000
DTEND;TZID=America/New_York:20260214T100000
DTSTAMP:20260425T140946
CREATED:20260211T205018Z
LAST-MODIFIED:20260211T205600Z
UID:10000888-1771063200-1771063200@healthywestorange.org
SUMMARY:Storytime in the Garden
DESCRIPTION:Story Time in the Garden is this Saturday at 10 a.m.!! Join us for stories\, crafts\, and garden fun at Nehrling Gardens.\nPlus\, we gather EVERY 2nd Saturday at 10 a.m. — come grow with us!
URL:https://healthywestorange.org/event/storytime-in-the-garden/2026-02-14/
ATTACH;FMTTYPE=image/jpeg:https://healthywestorange.org/wp-content/uploads/2026/02/Storytime-Gotha.jpg
END:VEVENT
BEGIN:VEVENT
DTSTART;TZID=America/New_York:20260214T180000
DTEND;TZID=America/New_York:20260214T210000
DTSTAMP:20260425T140946
CREATED:20260203T150648Z
LAST-MODIFIED:20260211T184843Z
UID:10000880-1771092000-1771102800@healthywestorange.org
SUMMARY:Ocoee Valentine’s Day Celebration
DESCRIPTION:The city of Ocoee will kick off its centennial year with a Valentine’s Day Celebration from 6 to 9 p.m. Friday\, Feb. 14\, at the Ocoee Lakeshore Center and Withers-Maguire House. \nThere will be live music\, food trucks\, games\, craft stations and a fire pit for s’mores. \nA highlight of the event will be the Mother & Son Dance at 6:45 p.m. and Father & Daughter Dance at 7:15 at the Ocoee Lakeshore Center. A kid’s zone will offer a bear station with 200 free bears\, bracelet making\, coloring\, carnival games and rides. Two hundred carnations will be given to attendees on a first-come\, first-served basis. \nFor more information\, call the Ocoee Parks and Leisure Services department at (407) 905-3180.
URL:https://healthywestorange.org/event/ocoee-valentines-day-celebration/
ATTACH;FMTTYPE=image/jpeg:https://healthywestorange.org/wp-content/uploads/2026/02/V-Day.jpg
END:VEVENT
END:VCALENDAR