BEGIN:VCALENDAR
VERSION:2.0
PRODID:-//Healthy West Orange - ECPv6.15.17.1//NONSGML v1.0//EN
CALSCALE:GREGORIAN
METHOD:PUBLISH
X-ORIGINAL-URL:https://healthywestorange.org
X-WR-CALDESC:Events for Healthy West Orange
REFRESH-INTERVAL;VALUE=DURATION:PT1H
X-Robots-Tag:noindex
X-PUBLISHED-TTL:PT1H
BEGIN:VTIMEZONE
TZID:America/New_York
BEGIN:DAYLIGHT
TZOFFSETFROM:-0500
TZOFFSETTO:-0400
TZNAME:EDT
DTSTART:20250309T070000
END:DAYLIGHT
BEGIN:STANDARD
TZOFFSETFROM:-0400
TZOFFSETTO:-0500
TZNAME:EST
DTSTART:20251102T060000
END:STANDARD
BEGIN:DAYLIGHT
TZOFFSETFROM:-0500
TZOFFSETTO:-0400
TZNAME:EDT
DTSTART:20260308T070000
END:DAYLIGHT
BEGIN:STANDARD
TZOFFSETFROM:-0400
TZOFFSETTO:-0500
TZNAME:EST
DTSTART:20261101T060000
END:STANDARD
BEGIN:DAYLIGHT
TZOFFSETFROM:-0500
TZOFFSETTO:-0400
TZNAME:EDT
DTSTART:20270314T070000
END:DAYLIGHT
BEGIN:STANDARD
TZOFFSETFROM:-0400
TZOFFSETTO:-0500
TZNAME:EST
DTSTART:20271107T060000
END:STANDARD
BEGIN:DAYLIGHT
TZOFFSETFROM:-0500
TZOFFSETTO:-0400
TZNAME:EDT
DTSTART:20280312T070000
END:DAYLIGHT
BEGIN:STANDARD
TZOFFSETFROM:-0400
TZOFFSETTO:-0500
TZNAME:EST
DTSTART:20281105T060000
END:STANDARD
END:VTIMEZONE
BEGIN:VEVENT
DTSTART;TZID=America/New_York:20260409T090000
DTEND;TZID=America/New_York:20270115T110000
DTSTAMP:20260425T092836
CREATED:20260226T160912Z
LAST-MODIFIED:20260316T200453Z
UID:10001593-1775725200-1800010800@healthywestorange.org
SUMMARY:Community Food Pantry - 2nd Thursday
DESCRIPTION:Community Food Pantry on the 2nd and 4th Thursday of each month — 9am-11am. \nThere is no application or qualifying process.
URL:https://healthywestorange.org/event/community-food-pantry/2026-04-09/
LOCATION:5395 L.B. Mcleod Rd\, 5395 L.B. Mcleod Rd\, Orlando\, FL\, 32811\, United States
ATTACH;FMTTYPE=image/jpeg:https://healthywestorange.org/wp-content/uploads/2026/02/2027-Community-Food-Pantry.jpg
END:VEVENT
BEGIN:VEVENT
DTSTART;TZID=America/New_York:20260412T100000
DTEND;TZID=America/New_York:20260412T160000
DTSTAMP:20260425T092836
CREATED:20260408T153534Z
LAST-MODIFIED:20260408T153534Z
UID:10001735-1775988000-1776009600@healthywestorange.org
SUMMARY:Spring Fever in the Garden
DESCRIPTION:The 24th annual Spring Fever in the Garden festival\, hosted by the Bloom & Grow Garden Society\, will take place in Downtown Winter Garden on April 11-12\, 2026 \nPlant Street will be transformed into a delightful celebration of spring and all things gardening.   We invite you to experience the festival firsthand.  Enjoy the charm of historic downtown Winter Garden with its brick-lined streets\, unique shops\, great restaurants\, the city clock tower\, and lush hanging flower baskets.  Be sure to visit Butterfly Park (right next to the kid’s splash pad) and marvel at Flora\, our copper Monarch sculpture.  \nJoin us for a wonderful ode to spring!
URL:https://healthywestorange.org/event/spring-fever-in-the-garden-2/2026-04-12/
LOCATION:Downtown Winter Garden
ATTACH;FMTTYPE=image/png:https://healthywestorange.org/wp-content/uploads/2026/04/spring-fever-garden.png
END:VEVENT
END:VCALENDAR