BEGIN:VCALENDAR
VERSION:2.0
PRODID:-//Healthy West Orange - ECPv6.15.17.1//NONSGML v1.0//EN
CALSCALE:GREGORIAN
METHOD:PUBLISH
X-ORIGINAL-URL:https://healthywestorange.org
X-WR-CALDESC:Events for Healthy West Orange
REFRESH-INTERVAL;VALUE=DURATION:PT1H
X-Robots-Tag:noindex
X-PUBLISHED-TTL:PT1H
BEGIN:VTIMEZONE
TZID:America/New_York
BEGIN:DAYLIGHT
TZOFFSETFROM:-0500
TZOFFSETTO:-0400
TZNAME:EDT
DTSTART:20230312T070000
END:DAYLIGHT
BEGIN:STANDARD
TZOFFSETFROM:-0400
TZOFFSETTO:-0500
TZNAME:EST
DTSTART:20231105T060000
END:STANDARD
BEGIN:DAYLIGHT
TZOFFSETFROM:-0500
TZOFFSETTO:-0400
TZNAME:EDT
DTSTART:20240310T070000
END:DAYLIGHT
BEGIN:STANDARD
TZOFFSETFROM:-0400
TZOFFSETTO:-0500
TZNAME:EST
DTSTART:20241103T060000
END:STANDARD
BEGIN:DAYLIGHT
TZOFFSETFROM:-0500
TZOFFSETTO:-0400
TZNAME:EDT
DTSTART:20250309T070000
END:DAYLIGHT
BEGIN:STANDARD
TZOFFSETFROM:-0400
TZOFFSETTO:-0500
TZNAME:EST
DTSTART:20251102T060000
END:STANDARD
BEGIN:DAYLIGHT
TZOFFSETFROM:-0500
TZOFFSETTO:-0400
TZNAME:EDT
DTSTART:20260308T070000
END:DAYLIGHT
BEGIN:STANDARD
TZOFFSETFROM:-0400
TZOFFSETTO:-0500
TZNAME:EST
DTSTART:20261101T060000
END:STANDARD
BEGIN:DAYLIGHT
TZOFFSETFROM:-0500
TZOFFSETTO:-0400
TZNAME:EDT
DTSTART:20270314T070000
END:DAYLIGHT
BEGIN:STANDARD
TZOFFSETFROM:-0400
TZOFFSETTO:-0500
TZNAME:EST
DTSTART:20271107T060000
END:STANDARD
END:VTIMEZONE
BEGIN:VEVENT
DTSTART;TZID=America/New_York:20260101T120000
DTEND;TZID=America/New_York:20260101T130000
DTSTAMP:20260422T074417
CREATED:20251219T185048Z
LAST-MODIFIED:20251219T190530Z
UID:10000844-1767268800-1767272400@healthywestorange.org
SUMMARY:New Years Day Yoga Class
DESCRIPTION:Join us on New Year’s Day for a grounding yoga class at the Healthy West Orange Building to move into 2026 with clarity and calm.\nLocal Yoga Instructor Julie Sanchez will guide us through breathing exercises and poses for beginners and mat masters alike. Sleep in from your New Year’s Eve celebrations and join us from noon – 1pm to start the year with a healthy accomplishment! \nRegister here: https://www.eventbrite.com/e/new-years-day-yoga-tickets-1975638000442?aff=oddtdtcreator \nPlease bring a yoga mat\, water\, and wear comfortable clothing. \nThis class is the grand finale of our 12 Days of Fitmas series! *Sign up for our email list below\, and each day from December 20 – 31. You’ll receive a video in your inbox with Julie guiding you through a yoga pose. At the end of the 12 days\, we’ll put all of those poses together for an in-person yoga class!\n*If you sign up for our email list\, AND register and attend our New Year’s Day Yoga\, you’ll receive a coupon for a FREE future Community Connections class! It’s a 2 for 1!\nhttps://mailchi.mp/0076d95788e3/12-days-of-fitmas-2025-sign-up
URL:https://healthywestorange.org/event/new-years-day-yoga-class/
LOCATION:Healthy West Orange Building\, 1200 E Plant St\, Winter Garden\, FL\, 34787\, United States
CATEGORIES:Community Connections
ATTACH;FMTTYPE=image/jpeg:https://healthywestorange.org/wp-content/uploads/2025/12/Julie-Sanchez-yoga-class-scaled.jpg
END:VEVENT
BEGIN:VEVENT
DTSTART;TZID=America/New_York:20250917T180000
DTEND;TZID=America/New_York:20250917T190000
DTSTAMP:20260422T074417
CREATED:20250820T130806Z
LAST-MODIFIED:20250820T133251Z
UID:10000483-1758132000-1758135600@healthywestorange.org
SUMMARY:HWO Community Connections | Zumba with Studio K
DESCRIPTION:
URL:https://healthywestorange.org/event/hwo-community-connections-zumba-with-studio-k/
LOCATION:Healthy West Orange Building\, 1200 E Plant St\, Winter Garden\, FL\, 34787\, United States
CATEGORIES:Community Connections
ATTACH;FMTTYPE=image/jpeg:https://healthywestorange.org/wp-content/uploads/2025/08/cc-zumba-class-2-scaled.jpg
END:VEVENT
BEGIN:VEVENT
DTSTART;TZID=America/New_York:20250820T180000
DTEND;TZID=America/New_York:20250820T190000
DTSTAMP:20260422T074417
CREATED:20250716T180042Z
LAST-MODIFIED:20250716T180042Z
UID:10000447-1755712800-1755716400@healthywestorange.org
SUMMARY:SMART & SIMPLE: Packing Healthy Lunches for School of the Office Class with AdventHealth
DESCRIPTION:
URL:https://healthywestorange.org/event/smart-simple-packing-healthy-lunches-for-school-of-the-office-class-with-adventhealth/
LOCATION:Healthy West Orange Building\, 1200 E Plant St\, Winter Garden\, FL\, 34787\, United States
CATEGORIES:Community Connections
ATTACH;FMTTYPE=image/png:https://healthywestorange.org/wp-content/uploads/2025/07/Packing-healthy-lunches-cc-class-2025-scaled.png
END:VEVENT
BEGIN:VEVENT
DTSTART;TZID=America/New_York:20250423T180000
DTEND;TZID=America/New_York:20250423T190000
DTSTAMP:20260422T074417
CREATED:20250319T145348Z
LAST-MODIFIED:20250319T145357Z
UID:10000266-1745431200-1745434800@healthywestorange.org
SUMMARY:Groove & Flow: Hip Hop Class!
DESCRIPTION:
URL:https://healthywestorange.org/event/groove-flow-hip-hop-class/
LOCATION:Healthy West Orange Building\, 1200 E Plant St\, Winter Garden\, FL\, 34787\, United States
CATEGORIES:Community Connections
ATTACH;FMTTYPE=image/jpeg:https://healthywestorange.org/wp-content/uploads/2025/03/April-Dance-Month-Flyer-JPG-FINAL-1.jpg
END:VEVENT
BEGIN:VEVENT
DTSTART;TZID=America/New_York:20250416T110000
DTEND;TZID=America/New_York:20250416T120000
DTSTAMP:20260422T074417
CREATED:20250319T145149Z
LAST-MODIFIED:20250319T145434Z
UID:10000265-1744801200-1744804800@healthywestorange.org
SUMMARY:Groove & Flow: Latin Ballroom Class!
DESCRIPTION:
URL:https://healthywestorange.org/event/groove-flow-latin-ballroom-class/
LOCATION:Healthy West Orange Building\, 1200 E Plant St\, Winter Garden\, FL\, 34787\, United States
CATEGORIES:Community Connections
ATTACH;FMTTYPE=image/jpeg:https://healthywestorange.org/wp-content/uploads/2025/03/April-Dance-Month-Flyer-JPG-FINAL.jpg
END:VEVENT
BEGIN:VEVENT
DTSTART;TZID=America/New_York:20250409T110000
DTEND;TZID=America/New_York:20250409T120000
DTSTAMP:20260422T074417
CREATED:20250319T145017Z
LAST-MODIFIED:20250319T145017Z
UID:10000264-1744196400-1744200000@healthywestorange.org
SUMMARY:Groove & Flow: Line Dance Class!
DESCRIPTION:
URL:https://healthywestorange.org/event/groove-flow-line-dance-class/
LOCATION:Healthy West Orange Building\, 1200 E Plant St\, Winter Garden\, FL\, 34787\, United States
CATEGORIES:Community Connections
ATTACH;FMTTYPE=image/jpeg:https://healthywestorange.org/wp-content/uploads/2025/03/April-Dance-Month-Flyer-JPG-FINAL.jpg
END:VEVENT
BEGIN:VEVENT
DTSTART;TZID=America/New_York:20250326T180000
DTEND;TZID=America/New_York:20250326T190000
DTSTAMP:20260422T074417
CREATED:20250305T170636Z
LAST-MODIFIED:20250305T170636Z
UID:10000260-1743012000-1743015600@healthywestorange.org
SUMMARY:HWO Community Connections – Pollinator Pots for Florida Class
DESCRIPTION:
URL:https://healthywestorange.org/event/hwo-community-connections-pollinator-pots-for-florida-class/
LOCATION:Healthy West Orange Building\, 1200 E Plant St\, Winter Garden\, FL\, 34787\, United States
CATEGORIES:Community Connections
ATTACH;FMTTYPE=image/jpeg:https://healthywestorange.org/wp-content/uploads/2025/03/Pollinator-class-RGB-Community-onnections-flyer-scaled.jpg
END:VEVENT
BEGIN:VEVENT
DTSTART;TZID=America/New_York:20250312T103000
DTEND;TZID=America/New_York:20250312T113000
DTSTAMP:20260422T074417
CREATED:20250224T180350Z
LAST-MODIFIED:20250224T180350Z
UID:10000252-1741775400-1741779000@healthywestorange.org
SUMMARY:HWO Community Connections - Balance For Life
DESCRIPTION:
URL:https://healthywestorange.org/event/hwo-community-connections-balance-for-life/
LOCATION:Healthy West Orange Building\, 1200 E Plant St\, Winter Garden\, FL\, 34787\, United States
CATEGORIES:Community Connections
ATTACH;FMTTYPE=image/jpeg:https://healthywestorange.org/wp-content/uploads/2025/02/RGB-Community-onnections-flyer-scaled.jpg
END:VEVENT
BEGIN:VEVENT
DTSTART;TZID=America/New_York:20250121T180000
DTEND;TZID=America/New_York:20250121T190000
DTSTAMP:20260422T074417
CREATED:20241216T193120Z
LAST-MODIFIED:20241216T193120Z
UID:10000193-1737482400-1737486000@healthywestorange.org
SUMMARY:HWO Community Connections - New Year\, New Flex
DESCRIPTION:
URL:https://healthywestorange.org/event/hwo-community-connections-new-year-new-flex/
LOCATION:Healthy West Orange Building\, 1200 E Plant St\, Winter Garden\, FL\, 34787\, United States
CATEGORIES:Community Connections
ATTACH;FMTTYPE=image/png:https://healthywestorange.org/wp-content/uploads/2024/12/New-Year-New-Flex-flyer.png
END:VEVENT
BEGIN:VEVENT
DTSTART;TZID=America/New_York:20250108T103000
DTEND;TZID=America/New_York:20250129T113000
DTSTAMP:20260422T074417
CREATED:20241210T171241Z
LAST-MODIFIED:20241210T171305Z
UID:10000192-1736332200-1738150200@healthywestorange.org
SUMMARY:A Stronger You 4-Week Fitness Series
DESCRIPTION:
URL:https://healthywestorange.org/event/a-stronger-you-4-week-fitness-series/
LOCATION:Heatlhy West Orange Office Building\, 1200 E Plant St\, Winter Garden\, Florida\, 34787
CATEGORIES:Community Connections
ATTACH;FMTTYPE=image/jpeg:https://healthywestorange.org/wp-content/uploads/2024/12/A-stronger-you-banner-scaled.jpg
END:VEVENT
BEGIN:VEVENT
DTSTART;TZID=America/New_York:20241113T180000
DTEND;TZID=America/New_York:20241113T190000
DTSTAMP:20260422T074417
CREATED:20241104T162924Z
LAST-MODIFIED:20241104T162924Z
UID:10000156-1731520800-1731524400@healthywestorange.org
SUMMARY:Festive Family Feast: Cooking Across Generations
DESCRIPTION:
URL:https://healthywestorange.org/event/festive-family-feast-cooking-across-generations/
LOCATION:Healthy West Orange Building\, 1200 E Plant St\, Winter Garden\, FL\, 34787\, United States
CATEGORIES:Community Connections
ATTACH;FMTTYPE=image/jpeg:https://healthywestorange.org/wp-content/uploads/2024/11/Festive-Family-Feast-Flyer-2024-scaled.jpg
END:VEVENT
BEGIN:VEVENT
DTSTART;TZID=America/New_York:20241023T100000
DTEND;TZID=America/New_York:20241023T110000
DTSTAMP:20260422T074417
CREATED:20241018T151831Z
LAST-MODIFIED:20241018T151831Z
UID:10000152-1729677600-1729681200@healthywestorange.org
SUMMARY:HWO Community Connections: Fall Wreath-Making Class
DESCRIPTION:Want to register but can’t afford the fee? Email hubb@healthywestorange.org for information on how to attend this class through our scholarship program.
URL:https://healthywestorange.org/event/hwo-community-connections-fall-wreath-making-class/
LOCATION:Healthy West Orange Building\, 1200 E Plant St\, Winter Garden\, FL\, 34787\, United States
CATEGORIES:Community Connections
ATTACH;FMTTYPE=image/jpeg:https://healthywestorange.org/wp-content/uploads/2024/10/flyer-cc-class-wreath-hwo-scaled.jpg
END:VEVENT
BEGIN:VEVENT
DTSTART;TZID=America/New_York:20241017T160000
DTEND;TZID=America/New_York:20241017T170000
DTSTAMP:20260422T074417
CREATED:20241015T143526Z
LAST-MODIFIED:20241015T143526Z
UID:10000149-1729180800-1729184400@healthywestorange.org
SUMMARY:Chase Credit Score Bootcamp
DESCRIPTION:Join us for our Chase Credit Score Bootcamp\, a FREE workshop that’ll have your financial fitness soaring faster than you can say “FICO”! \nWhat’s in store for you: \n– Crunch the numbers behind your credit score \n– Lift your financial knowledge to new heights \n– Spot the weak links in your credit chain \nBring your enthusiasm and leave with the tools to sculpt your perfect credit score! \nDate: Thursday\, October 17th\, 2024 \nTime: 4:00pm – 5:00pm \nLocation: Zoom – 603 974 5396 | Passcode: 101724
URL:https://healthywestorange.org/event/chase-credit-score-bootcamp/
LOCATION:FL
CATEGORIES:Community Connections
ATTACH;FMTTYPE=image/jpeg:https://healthywestorange.org/wp-content/uploads/2024/10/10.17.24-Credit-Score-Bootcamp-Virtual.jpg
END:VEVENT
BEGIN:VEVENT
DTSTART;TZID=America/New_York:20240821T180000
DTEND;TZID=America/New_York:20240821T193000
DTSTAMP:20260422T074417
CREATED:20240730T165354Z
LAST-MODIFIED:20240730T185059Z
UID:10000121-1724263200-1724268600@healthywestorange.org
SUMMARY:HWO Community Connections - Cooking with Healthy Staples
DESCRIPTION:
URL:https://healthywestorange.org/event/hwo-community-connections-cooking-with-healthy-staples/
LOCATION:Healthy West Orange Building\, 1200 E Plant St\, Winter Garden\, FL\, 34787\, United States
CATEGORIES:Community Connections
ATTACH;FMTTYPE=image/png:https://healthywestorange.org/wp-content/uploads/2024/07/Chef-sage-hapco-flyer-update-3.png
END:VEVENT
BEGIN:VEVENT
DTSTART;TZID=America/New_York:20240717T100000
DTEND;TZID=America/New_York:20240717T110000
DTSTAMP:20260422T074417
CREATED:20240620T193831Z
LAST-MODIFIED:20240620T225320Z
UID:10000096-1721210400-1721214000@healthywestorange.org
SUMMARY:Family Yoga - Community Connections
DESCRIPTION:Our next Community Connections class will be Family Yoga with Love & Light Kids Yoga at our building in Winter Garden! On Wednesday\, July 17 from 10 to 11 a.m.\, parents and caregivers with young children ages 3-7 can enjoy a relaxing summer activity together! Your family will learn simple\, mindful breathing\, with yoga poses put to song.\n\n\n\n*Parents/caregivers are required to attend with their child. One ticket covers one parent and one child.\nWant to register but can’t afford the fee? Email hubb@healthywestorange.org to learn more about how you can attend through the HWO Community Connections scholarship program.\nSpots are limited and registration is required\, so sign up now!
URL:https://healthywestorange.org/event/family-yoga-community-connections/
LOCATION:Heatlhy West Orange Office Building\, 1200 E Plant St\, Winter Garden\, Florida\, 34787
CATEGORIES:Community Connections
ATTACH;FMTTYPE=image/jpeg:https://healthywestorange.org/wp-content/uploads/2024/06/Family-Yoga-Promo-image-scaled.jpg
END:VEVENT
BEGIN:VEVENT
DTSTART;TZID=America/New_York:20240327T103000
DTEND;TZID=America/New_York:20240501T113000
DTSTAMP:20260422T074417
CREATED:20240502T234300Z
LAST-MODIFIED:20240610T233055Z
UID:10000014-1711535400-1714563000@healthywestorange.org
SUMMARY:A Stronger You 6-Week Fitness Series
DESCRIPTION:
URL:https://healthywestorange.org/event/a-stronger-you-6-week-fitness-series/
LOCATION:Heatlhy West Orange Office Building\, 1200 E Plant St\, Winter Garden\, Florida\, 34787
CATEGORIES:Community Connections
ATTACH;FMTTYPE=image/jpeg:https://healthywestorange.org/wp-content/uploads/2024/05/community-connectios.jpg
END:VEVENT
BEGIN:VEVENT
DTSTART;TZID=America/New_York:20240117T190000
DTEND;TZID=America/New_York:20240117T200000
DTSTAMP:20260422T074417
CREATED:20240605T003941Z
LAST-MODIFIED:20240611T202455Z
UID:10000089-1705518000-1705521600@healthywestorange.org
SUMMARY:HWO COMMUNITY CONNECTIONS - GROUP YOGA
DESCRIPTION:
URL:https://healthywestorange.org/event/hwo-community-connections-group-yoga/
LOCATION:Heatlhy West Orange Office Building\, 1200 E Plant St\, Winter Garden\, Florida\, 34787
CATEGORIES:Community Connections
ATTACH;FMTTYPE=image/jpeg:https://healthywestorange.org/wp-content/uploads/2024/06/GROUP-YOGA-Flyer-01-1-scaled-1.jpg
END:VEVENT
END:VCALENDAR