BEGIN:VCALENDAR
VERSION:2.0
PRODID:-//Healthy West Orange - ECPv6.15.17.1//NONSGML v1.0//EN
CALSCALE:GREGORIAN
METHOD:PUBLISH
X-ORIGINAL-URL:https://healthywestorange.org
X-WR-CALDESC:Events for Healthy West Orange
REFRESH-INTERVAL;VALUE=DURATION:PT1H
X-Robots-Tag:noindex
X-PUBLISHED-TTL:PT1H
BEGIN:VTIMEZONE
TZID:America/New_York
BEGIN:DAYLIGHT
TZOFFSETFROM:-0500
TZOFFSETTO:-0400
TZNAME:EDT
DTSTART:20230312T070000
END:DAYLIGHT
BEGIN:STANDARD
TZOFFSETFROM:-0400
TZOFFSETTO:-0500
TZNAME:EST
DTSTART:20231105T060000
END:STANDARD
BEGIN:DAYLIGHT
TZOFFSETFROM:-0500
TZOFFSETTO:-0400
TZNAME:EDT
DTSTART:20240310T070000
END:DAYLIGHT
BEGIN:STANDARD
TZOFFSETFROM:-0400
TZOFFSETTO:-0500
TZNAME:EST
DTSTART:20241103T060000
END:STANDARD
BEGIN:DAYLIGHT
TZOFFSETFROM:-0500
TZOFFSETTO:-0400
TZNAME:EDT
DTSTART:20250309T070000
END:DAYLIGHT
BEGIN:STANDARD
TZOFFSETFROM:-0400
TZOFFSETTO:-0500
TZNAME:EST
DTSTART:20251102T060000
END:STANDARD
END:VTIMEZONE
BEGIN:VEVENT
DTSTART;TZID=America/New_York:20240327T103000
DTEND;TZID=America/New_York:20240501T113000
DTSTAMP:20260422T110858
CREATED:20240502T234300Z
LAST-MODIFIED:20240610T233055Z
UID:10000014-1711535400-1714563000@healthywestorange.org
SUMMARY:A Stronger You 6-Week Fitness Series
DESCRIPTION:
URL:https://healthywestorange.org/event/a-stronger-you-6-week-fitness-series/
LOCATION:Heatlhy West Orange Office Building\, 1200 E Plant St\, Winter Garden\, Florida\, 34787
CATEGORIES:Community Connections
ATTACH;FMTTYPE=image/jpeg:https://healthywestorange.org/wp-content/uploads/2024/05/community-connectios.jpg
END:VEVENT
BEGIN:VEVENT
DTSTART;TZID=America/New_York:20240117T190000
DTEND;TZID=America/New_York:20240117T200000
DTSTAMP:20260422T110858
CREATED:20240605T003941Z
LAST-MODIFIED:20240611T202455Z
UID:10000089-1705518000-1705521600@healthywestorange.org
SUMMARY:HWO COMMUNITY CONNECTIONS - GROUP YOGA
DESCRIPTION:
URL:https://healthywestorange.org/event/hwo-community-connections-group-yoga/
LOCATION:Heatlhy West Orange Office Building\, 1200 E Plant St\, Winter Garden\, Florida\, 34787
CATEGORIES:Community Connections
ATTACH;FMTTYPE=image/jpeg:https://healthywestorange.org/wp-content/uploads/2024/06/GROUP-YOGA-Flyer-01-1-scaled-1.jpg
END:VEVENT
END:VCALENDAR