BEGIN:VCALENDAR
VERSION:2.0
PRODID:-//Healthy West Orange - ECPv6.15.17.1//NONSGML v1.0//EN
CALSCALE:GREGORIAN
METHOD:PUBLISH
X-WR-CALNAME:Healthy West Orange
X-ORIGINAL-URL:https://healthywestorange.org
X-WR-CALDESC:Events for Healthy West Orange
REFRESH-INTERVAL;VALUE=DURATION:PT1H
X-Robots-Tag:noindex
X-PUBLISHED-TTL:PT1H
BEGIN:VTIMEZONE
TZID:America/New_York
BEGIN:DAYLIGHT
TZOFFSETFROM:-0500
TZOFFSETTO:-0400
TZNAME:EDT
DTSTART:20250309T070000
END:DAYLIGHT
BEGIN:STANDARD
TZOFFSETFROM:-0400
TZOFFSETTO:-0500
TZNAME:EST
DTSTART:20251102T060000
END:STANDARD
BEGIN:DAYLIGHT
TZOFFSETFROM:-0500
TZOFFSETTO:-0400
TZNAME:EDT
DTSTART:20260308T070000
END:DAYLIGHT
BEGIN:STANDARD
TZOFFSETFROM:-0400
TZOFFSETTO:-0500
TZNAME:EST
DTSTART:20261101T060000
END:STANDARD
BEGIN:DAYLIGHT
TZOFFSETFROM:-0500
TZOFFSETTO:-0400
TZNAME:EDT
DTSTART:20270314T070000
END:DAYLIGHT
BEGIN:STANDARD
TZOFFSETFROM:-0400
TZOFFSETTO:-0500
TZNAME:EST
DTSTART:20271107T060000
END:STANDARD
END:VTIMEZONE
BEGIN:VEVENT
DTSTART;TZID=America/New_York:20260516T083000
DTEND;TZID=America/New_York:20260516T130000
DTSTAMP:20260423T155023
CREATED:20260408T001428Z
LAST-MODIFIED:20260408T001428Z
UID:10001733-1778920200-1778936400@healthywestorange.org
SUMMARY:Sports Physical Day
DESCRIPTION:
URL:https://healthywestorange.org/event/sports-physical-day/2026-05-16/
LOCATION:Florida
ATTACH;FMTTYPE=image/jpeg:https://healthywestorange.org/wp-content/uploads/2026/04/Sports-Physicals.jpg
END:VEVENT
BEGIN:VEVENT
DTSTART;TZID=America/New_York:20260515T130000
DTEND;TZID=America/New_York:20260515T150000
DTSTAMP:20260423T155023
CREATED:20260330T191205Z
LAST-MODIFIED:20260330T191205Z
UID:10001666-1778850000-1778857200@healthywestorange.org
SUMMARY:
DESCRIPTION:🤟 Free ASL Classes – Open to the Public!\nSPRING CLASSES: April 10 to May 29\n\nThe Town of Windermere\, in partnership with Mandy David\, is offering FREE American Sign Language (ASL) classes for adults and teens. Each 7–8-week course builds week to week\, so consistent attendance is encouraged.\n\n📍 Community Conference Room\nTown of Windermere Administrative and Police Complex\n614 Main Street\, Building 100\n🗓 Fridays\n• ASL 1 (Beginner): 1:00–2:00 p.m.\n• ASL 2 (Intermediate): 2:00–3:00 p.m.\n\nLearn\, connect\, and build new communication skills in our community!
URL:https://healthywestorange.org/event/12315/2026-05-15/
LOCATION:Town of Windermere – Community Conference Room\, 614 Main Street BLDG 100\, Windermere\, Florida
ATTACH;FMTTYPE=image/jpeg:https://healthywestorange.org/wp-content/uploads/2026/03/ASL-Windermere.jpeg
END:VEVENT
BEGIN:VEVENT
DTSTART;TZID=America/New_York:20260512T083000
DTEND;TZID=America/New_York:20260512T093000
DTSTAMP:20260423T155023
CREATED:20251215T200658Z
LAST-MODIFIED:20260105T220012Z
UID:10000836-1778574600-1778578200@healthywestorange.org
SUMMARY:West Orange Walkers - May Walking Meetup
DESCRIPTION:
URL:https://healthywestorange.org/event/west-orange-walkers-may-walking-meetup/
LOCATION:West Oaks Mall\, 9401 W Colonial Dr\, Ocoee\, Florida\, 34761
CATEGORIES:West Orange Walkers
ATTACH;FMTTYPE=image/jpeg:https://healthywestorange.org/wp-content/uploads/2025/12/DSC_0041-scaled.jpg
END:VEVENT
BEGIN:VEVENT
DTSTART;TZID=America/New_York:20260509T100000
DTEND;TZID=America/New_York:20260509T100000
DTSTAMP:20260423T155023
CREATED:20260211T205018Z
LAST-MODIFIED:20260211T205600Z
UID:10001001-1778320800-1778320800@healthywestorange.org
SUMMARY:Storytime in the Garden
DESCRIPTION:Story Time in the Garden is this Saturday at 10 a.m.!! Join us for stories\, crafts\, and garden fun at Nehrling Gardens.\nPlus\, we gather EVERY 2nd Saturday at 10 a.m. — come grow with us!
URL:https://healthywestorange.org/event/storytime-in-the-garden/2026-05-09/
LOCATION:Florida
ATTACH;FMTTYPE=image/jpeg:https://healthywestorange.org/wp-content/uploads/2026/02/Storytime-Gotha.jpg
END:VEVENT
BEGIN:VEVENT
DTSTART;TZID=America/New_York:20260509T090000
DTEND;TZID=America/New_York:20260509T120000
DTSTAMP:20260423T155023
CREATED:20251129T005140Z
LAST-MODIFIED:20251129T005140Z
UID:10000811-1778317200-1778328000@healthywestorange.org
SUMMARY:Second Saturday Crew - Volunteering
DESCRIPTION:Second Saturday Crew \nJoin us for a special in-person service event at the Christian Service Center for the Homeless! Looking for a fun and rewarding service opportunity? The Second Saturday Crew is ideal for individuals\, youth groups\, small or large groups who want to help a charity that serves the poor and homeless in Central Florida. You will be helping by tackling various projects that are impractical for us to address on weekdays when there are a couple hundred visitors on campus. \nWe have a wide variety of fun group projects to choose from for all ages\, from light landscaping to painting\, or sorting pantry shelves and clothing racks. Our staff will be present to provide direction and support. \nFormerly known as “Family Volunteer Saturday\,” this morning of service takes place from 9:00 a.m. to 12:00 p.m. on the second Saturday of each month in 2025. This way\, no dates fall on a holiday weekend. Come out and make a difference in your community!
URL:https://healthywestorange.org/event/second-saturday-crew-volunteering/2026-05-09/
LOCATION:Christian Service Center – Ocoee\, 300 Franklin Street\, Ocoee\, FL\, 34761
ATTACH;FMTTYPE=image/jpeg:https://healthywestorange.org/wp-content/uploads/2025/11/CSC-Ocoee-Dec-2025.jpg
END:VEVENT
BEGIN:VEVENT
DTSTART;TZID=America/New_York:20260509T083000
DTEND;TZID=America/New_York:20260509T130000
DTSTAMP:20260423T155023
CREATED:20260408T001428Z
LAST-MODIFIED:20260408T001428Z
UID:10001732-1778315400-1778331600@healthywestorange.org
SUMMARY:Sports Physical Day
DESCRIPTION:
URL:https://healthywestorange.org/event/sports-physical-day/2026-05-09/
LOCATION:Florida
ATTACH;FMTTYPE=image/jpeg:https://healthywestorange.org/wp-content/uploads/2026/04/Sports-Physicals.jpg
END:VEVENT
BEGIN:VEVENT
DTSTART;TZID=America/New_York:20260508T130000
DTEND;TZID=America/New_York:20260508T150000
DTSTAMP:20260423T155023
CREATED:20260330T191205Z
LAST-MODIFIED:20260330T191205Z
UID:10001665-1778245200-1778252400@healthywestorange.org
SUMMARY:
DESCRIPTION:🤟 Free ASL Classes – Open to the Public!\nSPRING CLASSES: April 10 to May 29\n\nThe Town of Windermere\, in partnership with Mandy David\, is offering FREE American Sign Language (ASL) classes for adults and teens. Each 7–8-week course builds week to week\, so consistent attendance is encouraged.\n\n📍 Community Conference Room\nTown of Windermere Administrative and Police Complex\n614 Main Street\, Building 100\n🗓 Fridays\n• ASL 1 (Beginner): 1:00–2:00 p.m.\n• ASL 2 (Intermediate): 2:00–3:00 p.m.\n\nLearn\, connect\, and build new communication skills in our community!
URL:https://healthywestorange.org/event/12315/2026-05-08/
LOCATION:Town of Windermere – Community Conference Room\, 614 Main Street BLDG 100\, Windermere\, Florida
ATTACH;FMTTYPE=image/jpeg:https://healthywestorange.org/wp-content/uploads/2026/03/ASL-Windermere.jpeg
END:VEVENT
BEGIN:VEVENT
DTSTART;TZID=America/New_York:20260505T130000
DTEND;TZID=America/New_York:20260505T160000
DTSTAMP:20260423T155023
CREATED:20260415T185617Z
LAST-MODIFIED:20260415T185617Z
UID:10002437-1777986000-1777996800@healthywestorange.org
SUMMARY:Science Cafe - UCF
DESCRIPTION:Join UCF’s Disability\, Aging\, and Technology (DAT) Cluster researchers for a dynamic afternoon of short talks presented by faculty and stay to explore interactive booths and connect directly with experts and students.  Discover how to stay safe\, strong\, and independent as you age!
URL:https://healthywestorange.org/event/science-cafe-ucf/
LOCATION:Healthy West Orange Building\, 1200 E Plant St\, Winter Garden\, FL\, 34787\, United States
ATTACH;FMTTYPE=image/jpeg:https://healthywestorange.org/wp-content/uploads/2026/04/UCF-Science-Cafe-Flyer-scaled.jpg
END:VEVENT
BEGIN:VEVENT
DTSTART;TZID=America/New_York:20260502T110000
DTEND;TZID=America/New_York:20260502T140000
DTSTAMP:20260423T155023
CREATED:20260223T161515Z
LAST-MODIFIED:20260223T161515Z
UID:10001018-1777719600-1777730400@healthywestorange.org
SUMMARY:Ocoee Community Picnic
DESCRIPTION:
URL:https://healthywestorange.org/event/ocoee-community-picnic-2/
LOCATION:Florida
ATTACH;FMTTYPE=image/jpeg:https://healthywestorange.org/wp-content/uploads/2026/02/Ocoee-PD-Picnic2.jpg
END:VEVENT
BEGIN:VEVENT
DTSTART;TZID=America/New_York:20260502T090000
DTEND;TZID=America/New_York:20260502T130000
DTSTAMP:20260423T155023
CREATED:20260406T162204Z
LAST-MODIFIED:20260406T162204Z
UID:10001729-1777712400-1777726800@healthywestorange.org
SUMMARY:
DESCRIPTION:  \nEvent Details: \nChildren ages 0 to 17 who are low income\, uninsured\, or underserved in Orange\, Osceola\, and Seminole Counties. 100% FREE to those who qualify. \nServices Provided: \nLimited exams\,  Dental cleanings\,  Sealants\,  Fluoride treatments and Oral hygiene education \nThis event is by appointment only with limited availability\, and the flyer is attached to share directly with families. \nBeyond the event\, ongoing care matters. DCAF works closely with local Federally Qualified Health Centers and community partners to provide follow up wraparound care\, helping children establish a permanent dental home for continued treatment and preventive care. \nScheduling Information: \nFamilies can call 407-898-1525 to check eligibility and schedule an appointment
URL:https://healthywestorange.org/event/12337/
LOCATION:Florida
ATTACH;FMTTYPE=application/pdf:https://healthywestorange.org/wp-content/uploads/2026/04/DCAF-Kids-Smiles-5.2.26.pdf
END:VEVENT
BEGIN:VEVENT
DTSTART;TZID=America/New_York:20260502T083000
DTEND;TZID=America/New_York:20260502T130000
DTSTAMP:20260423T155023
CREATED:20260408T001428Z
LAST-MODIFIED:20260408T001428Z
UID:10001731-1777710600-1777726800@healthywestorange.org
SUMMARY:Sports Physical Day
DESCRIPTION:
URL:https://healthywestorange.org/event/sports-physical-day/2026-05-02/
LOCATION:Florida
ATTACH;FMTTYPE=image/jpeg:https://healthywestorange.org/wp-content/uploads/2026/04/Sports-Physicals.jpg
END:VEVENT
BEGIN:VEVENT
DTSTART;TZID=America/New_York:20260501T130000
DTEND;TZID=America/New_York:20260501T150000
DTSTAMP:20260423T155023
CREATED:20260330T191205Z
LAST-MODIFIED:20260330T191205Z
UID:10001664-1777640400-1777647600@healthywestorange.org
SUMMARY:
DESCRIPTION:🤟 Free ASL Classes – Open to the Public!\nSPRING CLASSES: April 10 to May 29\n\nThe Town of Windermere\, in partnership with Mandy David\, is offering FREE American Sign Language (ASL) classes for adults and teens. Each 7–8-week course builds week to week\, so consistent attendance is encouraged.\n\n📍 Community Conference Room\nTown of Windermere Administrative and Police Complex\n614 Main Street\, Building 100\n🗓 Fridays\n• ASL 1 (Beginner): 1:00–2:00 p.m.\n• ASL 2 (Intermediate): 2:00–3:00 p.m.\n\nLearn\, connect\, and build new communication skills in our community!
URL:https://healthywestorange.org/event/12315/2026-05-01/
LOCATION:Town of Windermere – Community Conference Room\, 614 Main Street BLDG 100\, Windermere\, Florida
ATTACH;FMTTYPE=image/jpeg:https://healthywestorange.org/wp-content/uploads/2026/03/ASL-Windermere.jpeg
END:VEVENT
BEGIN:VEVENT
DTSTART;TZID=America/New_York:20260429T180000
DTEND;TZID=America/New_York:20260429T190000
DTSTAMP:20260423T155023
CREATED:20260320T203350Z
LAST-MODIFIED:20260320T203350Z
UID:10001659-1777485600-1777489200@healthywestorange.org
SUMMARY:Dance Class Series: Musical Theatre
DESCRIPTION:Theatre nerds\, this one’s for you! Instructor Elise of Studio K will guide us through a fun routine that combines dance technique w/story. \nThe final class of our month-long Dance Class Series.  In person.  All dance levels are welcome to join us.  Ages 12+ \nRegister by clicking the website link. \nWant to register but can’t afford the fee? Email hubb@healthywestorange.org for information on how to attend these classes through our scholarship program. \n  \n 
URL:https://healthywestorange.org/event/dance-class-series-musical-theatre/
LOCATION:Healthy West Orange Building\, 1200 E Plant St\, Winter Garden\, FL\, 34787\, United States
ATTACH;FMTTYPE=image/jpeg:https://healthywestorange.org/wp-content/uploads/2026/03/Dance-Series-flyer-April-2026-scaled.jpg
END:VEVENT
BEGIN:VEVENT
DTSTART;TZID=America/New_York:20260425T110000
DTEND;TZID=America/New_York:20260425T140000
DTSTAMP:20260423T155023
CREATED:20260423T173947Z
LAST-MODIFIED:20260423T173947Z
UID:10002463-1777114800-1777125600@healthywestorange.org
SUMMARY:Free Pickleball Clinic - Winter Garden
DESCRIPTION:Come out to a FREE Pickleball Clinic on SAT.\, APRIL 25\, 11 am – 2 pm\, at Veterans Memorial Park\, 420 S. Park Ave. Equipment provided. First-Come\, First-Serve. Sponsored by Winter Garden Go Pickleball Volunteers and the City of Winter Garden. \nFree Beginner Pickleball Clinic: \nSaturday\, April 25\, 2026\n11:00 am – 2:00 pm\nVeterans Memorial Park\n420 S. Park Avenue\, Winter Garden\, FL 34787\nFirst Come First Serve\, Equipment Provided \nSponsored by Winter Garden Go Pickleball Volunteers and the City of Winter Garden
URL:https://healthywestorange.org/event/free-pickleball-clinic-winter-garden/
LOCATION:Veterans Memorial Park\, 420 South Park Avenue\, Winter Garden\, FL\, 34787\, United States
ATTACH;FMTTYPE=image/jpeg:https://healthywestorange.org/wp-content/uploads/2026/04/Pickleball.jpg
END:VEVENT
BEGIN:VEVENT
DTSTART;TZID=America/New_York:20260425T090000
DTEND;TZID=America/New_York:20260425T120000
DTSTAMP:20260423T155023
CREATED:20260423T151631Z
LAST-MODIFIED:20260423T151631Z
UID:10002460-1777107600-1777118400@healthywestorange.org
SUMMARY:Pine Hills Earth Day Clean Up
DESCRIPTION:
URL:https://healthywestorange.org/event/pine-hills-earth-day-clean-up/
LOCATION:Florida
ATTACH;FMTTYPE=image/jpeg:https://healthywestorange.org/wp-content/uploads/2026/04/PHCC_April_25_Adopt_A_Road_Earth_Day_Clean_Up.jpg
END:VEVENT
BEGIN:VEVENT
DTSTART;TZID=America/New_York:20260424T130000
DTEND;TZID=America/New_York:20260424T150000
DTSTAMP:20260423T155023
CREATED:20260330T191205Z
LAST-MODIFIED:20260330T191205Z
UID:10001663-1777035600-1777042800@healthywestorange.org
SUMMARY:
DESCRIPTION:🤟 Free ASL Classes – Open to the Public!\nSPRING CLASSES: April 10 to May 29\n\nThe Town of Windermere\, in partnership with Mandy David\, is offering FREE American Sign Language (ASL) classes for adults and teens. Each 7–8-week course builds week to week\, so consistent attendance is encouraged.\n\n📍 Community Conference Room\nTown of Windermere Administrative and Police Complex\n614 Main Street\, Building 100\n🗓 Fridays\n• ASL 1 (Beginner): 1:00–2:00 p.m.\n• ASL 2 (Intermediate): 2:00–3:00 p.m.\n\nLearn\, connect\, and build new communication skills in our community!
URL:https://healthywestorange.org/event/12315/2026-04-24/
LOCATION:Town of Windermere – Community Conference Room\, 614 Main Street BLDG 100\, Windermere\, Florida
ATTACH;FMTTYPE=image/jpeg:https://healthywestorange.org/wp-content/uploads/2026/03/ASL-Windermere.jpeg
END:VEVENT
BEGIN:VEVENT
DTSTART;TZID=America/New_York:20260422T180000
DTEND;TZID=America/New_York:20260422T190000
DTSTAMP:20260423T155023
CREATED:20260320T202715Z
LAST-MODIFIED:20260320T204222Z
UID:10001658-1776880800-1776884400@healthywestorange.org
SUMMARY:Dance Class Series: Broadway Cardio
DESCRIPTION:A workout fit for the big stage! Instructor Andy of Studio K will guide us through Zumba-like moves with a Broadway twist. \n\n\n\n\nNo dance experience required; all fitness levels are welcome!  In person. Ages 12+ \nDon’t miss our other dance classes in April! \nMusical Theatre: https://www.eventbrite.com/e/1985164498454?aff=oddtdtcreator \nRegister by clicking the website link. \nWant to register but can’t afford the fee? Email hubb@healthywestorange.org for information on how to attend these classes through our scholarship program.
URL:https://healthywestorange.org/event/dance-class-series-broadway-cardio/
LOCATION:Healthy West Orange Building\, 1200 E Plant St\, Winter Garden\, FL\, 34787\, United States
ATTACH;FMTTYPE=image/jpeg:https://healthywestorange.org/wp-content/uploads/2026/03/Dance-Series-flyer-April-2026-scaled.jpg
END:VEVENT
BEGIN:VEVENT
DTSTART;TZID=America/New_York:20260422T143000
DTEND;TZID=America/New_York:20260422T153000
DTSTAMP:20260423T155023
CREATED:20251119T182718Z
LAST-MODIFIED:20251119T182718Z
UID:10000705-1776868200-1776871800@healthywestorange.org
SUMMARY:From Triggers to Treatment - School-Based Care for Asthma and Allergies
DESCRIPTION:School Health Trainings WEBINAR(S) Presented by Nemours Children’s Health. \nScan QR code for more information of email: FLCommunityEngagement@nemours.org or 407-560-4000
URL:https://healthywestorange.org/event/from-triggers-to-treatment-school-based-care-for-asthma-and-allergies/
LOCATION:Florida
ATTACH;FMTTYPE=image/jpeg:https://healthywestorange.org/wp-content/uploads/2025/11/Nemours-2025-2026-School-Health-Training-Webinar-Series-Flyer.jpg
END:VEVENT
BEGIN:VEVENT
DTSTART;TZID=America/New_York:20260422T143000
DTEND;TZID=America/New_York:20260422T153000
DTSTAMP:20260423T155023
CREATED:20250917T195140Z
LAST-MODIFIED:20260123T205303Z
UID:10000565-1776868200-1776871800@healthywestorange.org
SUMMARY:Triggers to Treatment-Asthma & Allergies Webinar Series - CE Credits Available
DESCRIPTION:Join Nemours Children’s Health for a webinar series designed for school nurses\, educators\, and care staff. Each session offers expert insights and practical strategies to support student health. \n Free CE credits\n Live Q&A + session recordings\n Attend one or all sessions \n Learn more and Register now: https://ce.nemours.org/content/school-health-training-webinar-series#group-tabs-node-course-default1 \n Registration Tips:\n• New users: Create a visitor account\n• Returning users: Log in\n• Complete registration via BigMarker after enrolling\n• CE credit confirmed with a text-in code during the session \nUpcoming Topics: \n Sept 24 – Head & Facial Injuries\n Nov 5 – Diabetes & New Tech\n Feb 11 – Mental & Behavioral Health\n April 22– Asthma & Allergies
URL:https://healthywestorange.org/event/school-health-webinar-series-ce-credits-available-4/
LOCATION:Webinar
ATTACH;FMTTYPE=application/pdf:https://healthywestorange.org/wp-content/uploads/2025/09/Nemours-2025-2026-School-Health-Training-Webinar-Series-Flyer.pdf
END:VEVENT
BEGIN:VEVENT
DTSTART;TZID=America/New_York:20260422T140000
DTEND;TZID=America/New_York:20260422T150000
DTSTAMP:20260423T155023
CREATED:20260310T174034Z
LAST-MODIFIED:20260310T174034Z
UID:10001623-1776866400-1776870000@healthywestorange.org
SUMMARY:Stop the Bleed -- Save a Life
DESCRIPTION:This class is designed for individuals who have little or no medical training but who may be able to assist.  Attendees must be 18 or older.
URL:https://healthywestorange.org/event/stop-the-bleed-save-a-life/
LOCATION:8150 Chancellor Drive\, 8150 Chancellor Drive\, Orlando\, FL\, 32809\, United States
ATTACH;FMTTYPE=image/jpeg:https://healthywestorange.org/wp-content/uploads/2026/03/2026-Stop-The-Bleed-Flyer-April-22.jpg
END:VEVENT
BEGIN:VEVENT
DTSTART;TZID=America/New_York:20260421T140000
DTEND;TZID=America/New_York:20260421T150000
DTSTAMP:20260423T155023
CREATED:20260123T202259Z
LAST-MODIFIED:20260123T204330Z
UID:10000872-1776780000-1776783600@healthywestorange.org
SUMMARY:Cool Cancer Group
DESCRIPTION:Cool Cancer Group meets the 3rd Tuesday of every month.  Register at tinyurl.com/CoolCancerGroup
URL:https://healthywestorange.org/event/12034/2026-04-21/
LOCATION:Healthy West Orange Building\, 1200 E Plant St\, Winter Garden\, FL\, 34787\, United States
ATTACH;FMTTYPE=image/png:https://healthywestorange.org/wp-content/uploads/2026/01/Cool-Cancer-Group-Flyer.png
END:VEVENT
BEGIN:VEVENT
DTSTART;TZID=America/New_York:20260421T110000
DTEND;TZID=America/New_York:20260421T130000
DTSTAMP:20260423T155023
CREATED:20260317T200522Z
LAST-MODIFIED:20260317T200522Z
UID:10001651-1776769200-1776776400@healthywestorange.org
SUMMARY:Learn How to Navigate State Programs and Local Resources
DESCRIPTION:Coming To A Library Near You!\n\n\n\n\n\n\n\n\n\n\n\n\n\n\n\n\n\n\n\n\n\n\nLooking for help navigating state programs or local resources? My team will be hosting office hours at the Orange County Southwest Library Branch on Tuesday\, April 21\, from 11AM to 1PM\, in collaboration with the office of Representative Rita Harris. \nStop by with your questions\, concerns\, or to connect with our office — we look forward to supporting you and serving our community. No RSVP needed. \nTuesday\, April 21\, 11AM – 1PM \nSouthwest Branch Library \n7255 Della Dr.\, Orlando\, FL 32819
URL:https://healthywestorange.org/event/learn-how-to-navigate-state-programs-and-local-resources/
LOCATION:Southwest Branch Library\, 7255 Della Dr.\, Orlando\, FL\, 32819\, United States
ATTACH;FMTTYPE=image/jpeg:https://healthywestorange.org/wp-content/uploads/2026/03/Spencer-Office-Hours-April.jpg
END:VEVENT
BEGIN:VEVENT
DTSTART;TZID=America/New_York:20260418T100000
DTEND;TZID=America/New_York:20260418T130000
DTSTAMP:20260423T155023
CREATED:20260402T174836Z
LAST-MODIFIED:20260402T174836Z
UID:10001728-1776506400-1776517200@healthywestorange.org
SUMMARY:Healthy Kids Day at Dr. Phillips YMCA
DESCRIPTION:
URL:https://healthywestorange.org/event/healthy-kids-day-at-drphillips-ymca/
LOCATION:Dr. P Phillips YMCA\, 7000 Dr Phillips Blvd\, Orlando\, FL\, 32819\, United States
ATTACH;FMTTYPE=image/jpeg:https://healthywestorange.org/wp-content/uploads/2026/04/DSC_0404-scaled.jpg
END:VEVENT
BEGIN:VEVENT
DTSTART;TZID=America/New_York:20260418T100000
DTEND;TZID=America/New_York:20260418T130000
DTSTAMP:20260423T155023
CREATED:20260402T174339Z
LAST-MODIFIED:20260402T174339Z
UID:10001727-1776506400-1776517200@healthywestorange.org
SUMMARY:Healthy Kids Day at Roper YMCA
DESCRIPTION:
URL:https://healthywestorange.org/event/healthy-kids-day-at-roper-ymca/
LOCATION:Roper YMCA\, 100 Windermere Rd.\, Winter Garden\, FL\, 34787
ATTACH;FMTTYPE=image/jpeg:https://healthywestorange.org/wp-content/uploads/2026/04/Healthy-Kids-Day-6.jpg
END:VEVENT
BEGIN:VEVENT
DTSTART;TZID=America/New_York:20260418T090000
DTEND;TZID=America/New_York:20260418T150000
DTSTAMP:20260423T155023
CREATED:20260318T150729Z
LAST-MODIFIED:20260413T185557Z
UID:10001654-1776502800-1776524400@healthywestorange.org
SUMMARY:Healthy Beginnings for Moms
DESCRIPTION:Please use QR code on flyer or link: \nhttps://www.eventbrite.com/e/healthy-beginnings-for-moms-tickets-1984936955868?aff=oddtdtcreator
URL:https://healthywestorange.org/event/healthy-beginnings-for-moms/
LOCATION:Healthy West Orange Building\, 1200 E Plant St\, Winter Garden\, FL\, 34787\, United States
ATTACH;FMTTYPE=image/jpeg:https://healthywestorange.org/wp-content/uploads/2026/03/SBF_Healthy-Beginnings-for-Moms-Flyer-Group.jpg
END:VEVENT
BEGIN:VEVENT
DTSTART;TZID=America/New_York:20260417T130000
DTEND;TZID=America/New_York:20260417T150000
DTSTAMP:20260423T155023
CREATED:20260330T191205Z
LAST-MODIFIED:20260330T191205Z
UID:10001662-1776430800-1776438000@healthywestorange.org
SUMMARY:
DESCRIPTION:🤟 Free ASL Classes – Open to the Public!\nSPRING CLASSES: April 10 to May 29\n\nThe Town of Windermere\, in partnership with Mandy David\, is offering FREE American Sign Language (ASL) classes for adults and teens. Each 7–8-week course builds week to week\, so consistent attendance is encouraged.\n\n📍 Community Conference Room\nTown of Windermere Administrative and Police Complex\n614 Main Street\, Building 100\n🗓 Fridays\n• ASL 1 (Beginner): 1:00–2:00 p.m.\n• ASL 2 (Intermediate): 2:00–3:00 p.m.\n\nLearn\, connect\, and build new communication skills in our community!
URL:https://healthywestorange.org/event/12315/2026-04-17/
LOCATION:Town of Windermere – Community Conference Room\, 614 Main Street BLDG 100\, Windermere\, Florida
ATTACH;FMTTYPE=image/jpeg:https://healthywestorange.org/wp-content/uploads/2026/03/ASL-Windermere.jpeg
END:VEVENT
BEGIN:VEVENT
DTSTART;TZID=America/New_York:20260416T180000
DTEND;TZID=America/New_York:20260416T193000
DTSTAMP:20260423T155023
CREATED:20260410T184240Z
LAST-MODIFIED:20260410T184240Z
UID:10001736-1776362400-1776367800@healthywestorange.org
SUMMARY:Color Speaks -- Artist Open House
DESCRIPTION:Enjoy an immersive world of color at the new exhibit Color Speaks at the Healthy West Orange Arts & Heritage Center. \nGet your first look at the new art and enjoy light refreshments on Thursday\, April 16th from 6:00 – 7:30pm during the Artist Open House. \nThis event is located at 126 W. Petris Avenue\, Oakland FL.
URL:https://healthywestorange.org/event/color-speaks-artist-open-house/
LOCATION:Healthy West Orange Arts & Heritage Center – Oakland\, 126 W Petris Ave\, Oakland\, FL\, 34760
ATTACH;FMTTYPE=image/png:https://healthywestorange.org/wp-content/uploads/2026/04/Color-Speaks-2026.png
END:VEVENT
BEGIN:VEVENT
DTSTART;TZID=America/New_York:20260415T113000
DTEND;TZID=America/New_York:20260415T123000
DTSTAMP:20260423T155023
CREATED:20260320T202132Z
LAST-MODIFIED:20260320T202132Z
UID:10001657-1776252600-1776256200@healthywestorange.org
SUMMARY:Dance Class Series: Hip Hop
DESCRIPTION:If you’re looking for a high-intensity cardio workout\, then Hip Hop is the ticket with Coach Ezzy of Fit ‘N Fierce of West Orange! \n\n\n\n\nCoach Ezzy of Fit ‘N Fierce of West Orange will teach us sharp\, bold moves\, step-by-step. No dance experience required; all fitness levels are welcome! \nDon’t miss our other dance classes in April! \nBroadway Cardio: https://www.eventbrite.com/e/1985137410433?aff=oddtdtcreator \nMusical Theatre: https://www.eventbrite.com/e/musical-theatre-dance-class-tickets-1985164498454?aff=oddtdtcreator \nWant to register but can’t afford the fee? Email hubb@healthywestorange.org for information on how to attend these classes through our scholarship program.
URL:https://healthywestorange.org/event/dance-class-series-hip-hop/
LOCATION:Healthy West Orange Building\, 1200 E Plant St\, Winter Garden\, FL\, 34787\, United States
ATTACH;FMTTYPE=image/jpeg:https://healthywestorange.org/wp-content/uploads/2026/03/Dance-Series-flyer-April-2026-scaled.jpg
END:VEVENT
BEGIN:VEVENT
DTSTART;TZID=America/New_York:20260414T083000
DTEND;TZID=America/New_York:20260414T093000
DTSTAMP:20260423T155023
CREATED:20251124T211043Z
LAST-MODIFIED:20260105T215820Z
UID:10000830-1776155400-1776159000@healthywestorange.org
SUMMARY:West Orange Walkers - WOW Quarterly Breakfast
DESCRIPTION:Join us for our quarterly West Orange Walkers Breakfast at the Healthy West Orange Building\, 1200 E Plant Street\, Winter Garden\, FL 34787.  Enjoy free breakfast\, juice\, coffee\, and join our walking group.  \nPlease take elevators up to the second floor to the Grove conference room on the right.  \nGuest speakers will discuss topics about health\, nutrition\, and wellness.   \nNo need to pre-register\, just bring your smile and sneakers! \nThis program is open to all ages and mobility levels. Check out our 2026 schedule here: https://www.healthywestorange.org/wowalkers
URL:https://healthywestorange.org/event/west-orange-walkers-wow-quarterly-breakfast/2026-04-14/
LOCATION:Healthy West Orange Building\, 1200 E Plant St\, Winter Garden\, FL\, 34787\, United States
CATEGORIES:West Orange Walkers
ATTACH;FMTTYPE=image/jpeg:https://healthywestorange.org/wp-content/uploads/2025/11/cropped--scaled.jpeg
END:VEVENT
BEGIN:VEVENT
DTSTART;TZID=America/New_York:20260413T080000
DTEND;TZID=America/New_York:20260501T170000
DTSTAMP:20260423T155023
CREATED:20251229T151642Z
LAST-MODIFIED:20260413T155659Z
UID:10000849-1776067200-1777654800@healthywestorange.org
SUMMARY:Winter Garden Utility Bill Assistance Program for Low-Income Seniors
DESCRIPTION:City of Winter Garden Program Provides up to 90% Savings on Utility Bills for Qualifying Residents \nAPPLICATION PROCESS\nTo enroll in the program\, residents must complete an application and provide required documentation anytime from January 2 – May 1 each year\, as well as meet eligibility requirements. Qualified residents will receive the cost savings for a continuous 12 months\, starting in May and ending the following April. \nPlease submit application and required documents to the Winter Garden City Hall Reception Desk\, 300 W. Plant Street\, during regular operating hours (Monday – Friday\, 8:00 am – 5:00 pm)\, or by contacting Utility Billing Customer Service\, 407.656.4100. Following application submittal\, only applicants that do NOT qualify will be notified. \nResidents must apply annually for this program (it does not auto-renew). For more information\, click the website link.
URL:https://healthywestorange.org/event/martin-luther-king-jr-community-celebration-2/
LOCATION:Florida
ATTACH;FMTTYPE=image/png:https://healthywestorange.org/wp-content/uploads/2025/12/city-of-winter-garden.png
END:VEVENT
END:VCALENDAR