BEGIN:VCALENDAR
VERSION:2.0
PRODID:-//Healthy West Orange - ECPv6.15.17.1//NONSGML v1.0//EN
CALSCALE:GREGORIAN
METHOD:PUBLISH
X-ORIGINAL-URL:https://healthywestorange.org
X-WR-CALDESC:Events for Healthy West Orange
REFRESH-INTERVAL;VALUE=DURATION:PT1H
X-Robots-Tag:noindex
X-PUBLISHED-TTL:PT1H
BEGIN:VTIMEZONE
TZID:America/New_York
BEGIN:DAYLIGHT
TZOFFSETFROM:-0500
TZOFFSETTO:-0400
TZNAME:EDT
DTSTART:20240310T070000
END:DAYLIGHT
BEGIN:STANDARD
TZOFFSETFROM:-0400
TZOFFSETTO:-0500
TZNAME:EST
DTSTART:20241103T060000
END:STANDARD
BEGIN:DAYLIGHT
TZOFFSETFROM:-0500
TZOFFSETTO:-0400
TZNAME:EDT
DTSTART:20250309T070000
END:DAYLIGHT
BEGIN:STANDARD
TZOFFSETFROM:-0400
TZOFFSETTO:-0500
TZNAME:EST
DTSTART:20251102T060000
END:STANDARD
BEGIN:DAYLIGHT
TZOFFSETFROM:-0500
TZOFFSETTO:-0400
TZNAME:EDT
DTSTART:20260308T070000
END:DAYLIGHT
BEGIN:STANDARD
TZOFFSETFROM:-0400
TZOFFSETTO:-0500
TZNAME:EST
DTSTART:20261101T060000
END:STANDARD
END:VTIMEZONE
BEGIN:VEVENT
DTSTART;TZID=America/New_York:20250915T083000
DTEND;TZID=America/New_York:20250915T160000
DTSTAMP:20260420T164234
CREATED:20250908T213607Z
LAST-MODIFIED:20250908T213607Z
UID:10000539-1757925000-1757952000@healthywestorange.org
SUMMARY:Fisicos Y Examenes De Vision
DESCRIPTION:Free physicals with vision screenings for students up to 18 years of age are available between 8:30am-4:00pm\, by appointment only at 6 Neighborhood Center for Families (NCF) locations. \nCall the location\, use the QR code on the flyer or call 407-723-5004 to schedule an appointment.
URL:https://healthywestorange.org/event/fisicos-y-examenes-de-vision/
LOCATION:2804 Belco Drive\, 2804 Belco Dr\, Orlando\, FL\, 32808
ATTACH;FMTTYPE=image/jpeg:https://healthywestorange.org/wp-content/uploads/2025/09/Vision-Screenings-Spanish.jpg
END:VEVENT
BEGIN:VEVENT
DTSTART;TZID=America/New_York:20250915T083000
DTEND;TZID=America/New_York:20250915T160000
DTSTAMP:20260420T164234
CREATED:20250908T211752Z
LAST-MODIFIED:20250908T211818Z
UID:10000538-1757925000-1757952000@healthywestorange.org
SUMMARY:Fizikal Pou Lekol Avek Skrinig Pou Vizyon
DESCRIPTION:Free physicals with vision screenings for students up to 18 years of age are available between 8:30am-4:00pm\, by appointment only at 6 Neighborhood Center for Families (NCF) locations. \nCall the location\, use the QR code on the flyer or call 407-723-5004 to schedule an appointment.
URL:https://healthywestorange.org/event/fizikal-pou-lekol-avek-skrinig-pou-vizyon/
LOCATION:2804 Belco Drive\, 2804 Belco Dr\, Orlando\, FL\, 32808
ATTACH;FMTTYPE=image/jpeg:https://healthywestorange.org/wp-content/uploads/2025/09/Vision-Screenings-Creole.jpg
END:VEVENT
BEGIN:VEVENT
DTSTART;TZID=America/New_York:20250915T083000
DTEND;TZID=America/New_York:20250915T083000
DTSTAMP:20260420T164234
CREATED:20250908T211535Z
LAST-MODIFIED:20250908T213640Z
UID:10000540-1757925000-1757925000@healthywestorange.org
SUMMARY:School Physical with Vision Screenings
DESCRIPTION:Free physicals with vision screenings for students up to 18 years of age are available between 8:30am-4:00pm\, by appointment only at 6 Neighborhood Center for Families (NCF) locations. \nCall the location\, use the QR code on the flyer or call 407-723-5004 to schedule an appointment.
URL:https://healthywestorange.org/event/school-physical-with-vision-screenings/
LOCATION:2804 Belco Drive\, 2804 Belco Dr\, Orlando\, FL\, 32808
ATTACH;FMTTYPE=image/jpeg:https://healthywestorange.org/wp-content/uploads/2025/09/Vision-Screenings-English.jpg
END:VEVENT
END:VCALENDAR