BEGIN:VCALENDAR
VERSION:2.0
PRODID:-//Healthy West Orange - ECPv6.15.17.1//NONSGML v1.0//EN
CALSCALE:GREGORIAN
METHOD:PUBLISH
X-WR-CALNAME:Healthy West Orange
X-ORIGINAL-URL:https://healthywestorange.org
X-WR-CALDESC:Events for Healthy West Orange
REFRESH-INTERVAL;VALUE=DURATION:PT1H
X-Robots-Tag:noindex
X-PUBLISHED-TTL:PT1H
BEGIN:VTIMEZONE
TZID:America/New_York
BEGIN:DAYLIGHT
TZOFFSETFROM:-0500
TZOFFSETTO:-0400
TZNAME:EDT
DTSTART:20240310T070000
END:DAYLIGHT
BEGIN:STANDARD
TZOFFSETFROM:-0400
TZOFFSETTO:-0500
TZNAME:EST
DTSTART:20241103T060000
END:STANDARD
BEGIN:DAYLIGHT
TZOFFSETFROM:-0500
TZOFFSETTO:-0400
TZNAME:EDT
DTSTART:20250309T070000
END:DAYLIGHT
BEGIN:STANDARD
TZOFFSETFROM:-0400
TZOFFSETTO:-0500
TZNAME:EST
DTSTART:20251102T060000
END:STANDARD
BEGIN:DAYLIGHT
TZOFFSETFROM:-0500
TZOFFSETTO:-0400
TZNAME:EDT
DTSTART:20260308T070000
END:DAYLIGHT
BEGIN:STANDARD
TZOFFSETFROM:-0400
TZOFFSETTO:-0500
TZNAME:EST
DTSTART:20261101T060000
END:STANDARD
END:VTIMEZONE
BEGIN:VEVENT
DTSTART;TZID=America/New_York:20250825T190000
DTEND;TZID=America/New_York:20250825T203000
DTSTAMP:20260425T112453
CREATED:20250815T140545Z
LAST-MODIFIED:20250815T140634Z
UID:10000476-1756148400-1756153800@healthywestorange.org
SUMMARY:Bodystreet Run Club - Winter Garden
DESCRIPTION:
URL:https://healthywestorange.org/event/bodystreet-run-club-winter-garden/
LOCATION:Bodystreet – Winter Garden\, 1200 E. Plant St.\, Suite 150\, Winter Garden\, FL\, 34787
ATTACH;FMTTYPE=image/jpeg:https://healthywestorange.org/wp-content/uploads/2025/08/bodystreet-run-club.jpg
END:VEVENT
BEGIN:VEVENT
DTSTART;TZID=America/New_York:20250820T180000
DTEND;TZID=America/New_York:20250820T190000
DTSTAMP:20260425T112453
CREATED:20250815T135642Z
LAST-MODIFIED:20250815T135642Z
UID:10000475-1755712800-1755716400@healthywestorange.org
SUMMARY:Successful Tips for Healthy Change
DESCRIPTION:
URL:https://healthywestorange.org/event/successful-tips-for-healthy-change-2/
LOCATION:Bodystreet – Winter Garden\, 1200 E. Plant St.\, Suite 150\, Winter Garden\, FL\, 34787
ATTACH;FMTTYPE=image/jpeg:https://healthywestorange.org/wp-content/uploads/2025/08/Body-St-8-20-25-Workshop-Flyer.jpg
END:VEVENT
BEGIN:VEVENT
DTSTART;TZID=America/New_York:20250820T101500
DTEND;TZID=America/New_York:20250820T111500
DTSTAMP:20260425T112453
CREATED:20250815T135534Z
LAST-MODIFIED:20250815T135534Z
UID:10000474-1755684900-1755688500@healthywestorange.org
SUMMARY:Successful Tips for Healthy Change
DESCRIPTION:
URL:https://healthywestorange.org/event/successful-tips-for-healthy-change/
LOCATION:Bodystreet – Winter Garden\, 1200 E. Plant St.\, Suite 150\, Winter Garden\, FL\, 34787
ATTACH;FMTTYPE=image/jpeg:https://healthywestorange.org/wp-content/uploads/2025/08/Body-St-8-20-25-Workshop-Flyer.jpg
END:VEVENT
BEGIN:VEVENT
DTSTART;TZID=America/New_York:20250523T180000
DTEND;TZID=America/New_York:20250523T200000
DTSTAMP:20260425T112453
CREATED:20250509T210438Z
LAST-MODIFIED:20250512T132505Z
UID:10000336-1748023200-1748030400@healthywestorange.org
SUMMARY:Free Fitness Demo/Social-Body Street
DESCRIPTION:Join us for an exclusive wellness social where you’ll experience EMS (Electro Muscle Stimulation) training.  It is a time-efficient and results-driven workout.  This Sip & See Social is presented by Body Street to introduce the Future of Fitness! \nIt’s an evening of Fitness\, Elegance\, and Innovation.  Special Offers\, Healthy bites & sips\, and Live EMS Training Demos. \nRSVP by text at 863-280-0695 or email at wintergarden@bodystreet.com for this Friday\, May 23rd\, 6-8pm event. \nBody Street–1200 East Plant St\, Winter Garden\, FL 34787. \nFree parking.  Event entrance faces Plant Street.
URL:https://healthywestorange.org/event/free-fitness-demo-social-body-street/
LOCATION:Bodystreet – Winter Garden\, 1200 E. Plant St.\, Suite 150\, Winter Garden\, FL\, 34787
ATTACH;FMTTYPE=image/jpeg:https://healthywestorange.org/wp-content/uploads/2025/05/Sip-n-See-Jpeg.jpeg
END:VEVENT
END:VCALENDAR