BEGIN:VCALENDAR
VERSION:2.0
PRODID:-//Healthy West Orange - ECPv6.15.17.1//NONSGML v1.0//EN
CALSCALE:GREGORIAN
METHOD:PUBLISH
X-WR-CALNAME:Healthy West Orange
X-ORIGINAL-URL:https://healthywestorange.org
X-WR-CALDESC:Events for Healthy West Orange
REFRESH-INTERVAL;VALUE=DURATION:PT1H
X-Robots-Tag:noindex
X-PUBLISHED-TTL:PT1H
BEGIN:VTIMEZONE
TZID:America/New_York
BEGIN:DAYLIGHT
TZOFFSETFROM:-0500
TZOFFSETTO:-0400
TZNAME:EDT
DTSTART:20230312T070000
END:DAYLIGHT
BEGIN:STANDARD
TZOFFSETFROM:-0400
TZOFFSETTO:-0500
TZNAME:EST
DTSTART:20231105T060000
END:STANDARD
BEGIN:DAYLIGHT
TZOFFSETFROM:-0500
TZOFFSETTO:-0400
TZNAME:EDT
DTSTART:20240310T070000
END:DAYLIGHT
BEGIN:STANDARD
TZOFFSETFROM:-0400
TZOFFSETTO:-0500
TZNAME:EST
DTSTART:20241103T060000
END:STANDARD
BEGIN:DAYLIGHT
TZOFFSETFROM:-0500
TZOFFSETTO:-0400
TZNAME:EDT
DTSTART:20250309T070000
END:DAYLIGHT
BEGIN:STANDARD
TZOFFSETFROM:-0400
TZOFFSETTO:-0500
TZNAME:EST
DTSTART:20251102T060000
END:STANDARD
BEGIN:DAYLIGHT
TZOFFSETFROM:-0500
TZOFFSETTO:-0400
TZNAME:EDT
DTSTART:20260308T070000
END:DAYLIGHT
BEGIN:STANDARD
TZOFFSETFROM:-0400
TZOFFSETTO:-0500
TZNAME:EST
DTSTART:20261101T060000
END:STANDARD
END:VTIMEZONE
BEGIN:VEVENT
DTSTART;TZID=America/New_York:20251124T100000
DTEND;TZID=America/New_York:20251124T140000
DTSTAMP:20260424T090027
CREATED:20251119T181106Z
LAST-MODIFIED:20251119T181227Z
UID:10000702-1763978400-1763992800@healthywestorange.org
SUMMARY:Pine Hills Thanksgiving Turkey Drive & Health Expo
DESCRIPTION:Learn about medical providers in the Pine Hills area\, free healthcare screenings\, and a food giveaway!
URL:https://healthywestorange.org/event/healthy-pine-hills-thanksgiving-turkey-drive-health-expo/
LOCATION:Orange County Multicultural Center\, 7149 W. Colonial Dr.\, Orlando\, FL\, 32818\, United States
ATTACH;FMTTYPE=image/jpeg:https://healthywestorange.org/wp-content/uploads/2025/11/Thanksgiving-11-24-25.jpeg
END:VEVENT
BEGIN:VEVENT
DTSTART;TZID=America/New_York:20251124T100000
DTEND;TZID=America/New_York:20251124T140000
DTSTAMP:20260424T090027
CREATED:20251118T151515Z
LAST-MODIFIED:20251118T151515Z
UID:10000686-1763978400-1763992800@healthywestorange.org
SUMMARY:Health Pine Hills Medical Providers and Food Giveaway!
DESCRIPTION:Join us to learn about available medical service providers and food giveaway!  While supplies last.
URL:https://healthywestorange.org/event/health-pine-hills-medical-providers-and-food-giveaway/
LOCATION:Orange County Multicultural Center\, 7149 W. Colonial Dr.\, Orlando\, FL\, 32818\, United States
ATTACH;FMTTYPE=image/jpeg:https://healthywestorange.org/wp-content/uploads/2025/11/Healthy-Pine-Hills.jpg
END:VEVENT
BEGIN:VEVENT
DTSTART;TZID=America/New_York:20240809T160000
DTEND;TZID=America/New_York:20240809T190000
DTSTAMP:20260424T090027
CREATED:20240801T155921Z
LAST-MODIFIED:20240801T155921Z
UID:10000123-1723219200-1723230000@healthywestorange.org
SUMMARY:Back to School Giveaway
DESCRIPTION:
URL:https://healthywestorange.org/event/back-to-school-giveaway/
LOCATION:Orange County Multicultural Center\, 7149 W. Colonial Dr.\, Orlando\, FL\, 32818\, United States
ATTACH;FMTTYPE=image/jpeg:https://healthywestorange.org/wp-content/uploads/2024/08/MCC-Back-to-School-Flyer-.jpg
END:VEVENT
BEGIN:VEVENT
DTSTART;TZID=America/New_York:20240522T110000
DTEND;TZID=America/New_York:20240522T130000
DTSTAMP:20260424T090027
CREATED:20240530T215135Z
LAST-MODIFIED:20240530T215135Z
UID:10000046-1716375600-1716382800@healthywestorange.org
SUMMARY:Resource Fair
DESCRIPTION:
URL:https://healthywestorange.org/event/resource-fair/
LOCATION:Orange County Multicultural Center\, 7149 W. Colonial Dr.\, Orlando\, FL\, 32818\, United States
ATTACH;FMTTYPE=image/jpeg:https://healthywestorange.org/wp-content/uploads/2024/05/resource-fair.jpg
END:VEVENT
END:VCALENDAR